Workbook
Name Liste: 'A1 Exploitation'!$C$1:$C$4
Name AA: 'A1 Exploitation'!$BWJ$1

Sheet Page de garde
A18: Magasin Carrefour Market | D18: Merezgua
A21: Evolution des scores par audit
A23: Audit N° | B23: Note globale magasin | J23: =D18 -> Merezgua
A24: A1 | B24: =AVERAGE('A1 Exploitation'!D505,'A1 Technique'!D198) -> 0.91180569
A25: A2 | B25: =AVERAGE('A2 Exploitation'!D506,'A2 Technique'!D198) -> 0
A26: A3 | B26: =AVERAGE('A3 Exploitation'!D506,'A3 Technique'!D198) -> 0
A27: A4 | B27: =AVERAGE('A4 Exploitation'!D506,'A4 Technique'!D198) -> 0
A28: A5 | B28: =AVERAGE('A5 Exploitation'!D506,'A5 Technique'!D198) -> 0
A29: A6 | B29: =AVERAGE('A6 Exploitation'!D506,'A6 Technique'!D198) -> 0
A33: Audit N° | B33: Note-Exploitation | J33: =D18 -> Merezgua
A34: A1 | B34: ='A1 Exploitation'!D505 -> 0.89568345
A35: A2 | B35: ='A2 Exploitation'!D506
A36: A3 | B36: ='A3 Exploitation'!D506
A37: A4 | B37: ='A4 Exploitation'!D506
A38: A5 | B38: ='A5 Exploitation'!D506
A39: A6 | B39: ='A6 Exploitation'!D506
A42: Audit N° | B42: Taux global de réalisation du plan d'action | J42: =D18 -> Merezgua
A43: A1 | B43: =AVERAGE('A1 Exploitation'!D503, 'A1 Technique'!D196) -> 0.6703375
A44: A2 | B44: =AVERAGE('A2 Exploitation'!D504, 'A2 Technique'!D196) -> 0
A45: A3 | B45: =AVERAGE('A3 Exploitation'!D504, 'A3 Technique'!D196) -> 0
A46: A4 | B46: =AVERAGE('A4 Exploitation'!D504, 'A4 Technique'!D196) -> 0
A47: A5 | B47: =AVERAGE('A5 Exploitation'!D504, 'A5 Technique'!D196) -> 0
A48: A6 | B48: =AVERAGE('A6 Exploitation'!D504, 'A6 Technique'!D196) -> 0
A51: Audit N° | B51: Note-Réception | J51: =D18 -> Merezgua
A52: A1 | B52: ='A1 Exploitation'!D41 -> 0.60714286
A53: A2 | B53: ='A2 Exploitation'!D41 -> 0
A54: A3 | B54: ='A3 Exploitation'!D41 -> 0
A55: A4 | B55: ='A4 Exploitation'!D41 -> 0
A56: A5 | B56: ='A5 Exploitation'!D41 -> 0
A57: A6 | B57: ='A6 Exploitation'!D41 -> 0
A60: Audit N° | B60: Note-BoulPât | J60: =D18 -> Merezgua
A61: A1 | B61: ='A1 Exploitation'!D97 -> 0.92857143
A62: A2 | B62: ='A2 Exploitation'!D97 -> 0
A63: A3 | B63: ='A3 Exploitation'!D97 -> 0
A64: A4 | B64: ='A4 Exploitation'!D97 -> 0
A65: A5 | B65: ='A5 Exploitation'!D97 -> 0
A66: A6 | B66: ='A6 Exploitation'!D97 -> 0
A69: Audit N° | B69: Note-Traiteur | J69: =D18 -> Merezgua
A70: A1 | B70: ='A1 Exploitation'!D150 -> 0.88571429
A71: A2 | B71: ='A2 Exploitation'!D150 -> 0
A72: A3 | B72: ='A3 Exploitation'!D150 -> 0
A73: A4 | B73: ='A4 Exploitation'!D150 -> 0
A74: A5 | B74: ='A5 Exploitation'!D150 -> 0
A75: A6 | B75: ='A6 Exploitation'!D150 -> 0
A78: Audit N° | B78: Note-Charcuteries | J78: =D18 -> Merezgua
A79: A1 | B79: ='A1 Exploitation'!D190 -> 0.90384615
A80: A2 | B80: ='A2 Exploitation'!D190 -> 0
A81: A3 | B81: ='A3 Exploitation'!D190 -> 0
A82: A4 | B82: ='A4 Exploitation'!D190 -> 0
A83: A5 | B83: ='A5 Exploitation'!D190 -> 0
A84: A6 | B84: ='A6 Exploitation'!D190 -> 0
A87: Audit N° | B87: Note-Boucherie | J87: =D18 -> Merezgua
A88: A1 | B88: ='A1 Exploitation'!D246 -> 0.83823529
A89: A2 | B89: ='A2 Exploitation'!D246 -> 0
A90: A3 | B90: ='A3 Exploitation'!D246 -> 0
A91: A4 | B91: ='A4 Exploitation'!D246 -> 0
A92: A5 | B92: ='A5 Exploitation'!D246 -> 0
A93: A6 | B93: ='A6 Exploitation'!D246 -> 0
A96: Audit N° | B96: Note-Poissonnerie | J96: =D18 -> Merezgua
A97: A1 | B97: ='A1 Exploitation'!D289 -> 0.93103448
A98: A2 | B98: ='A2 Exploitation'!D289 -> 0
A99: A3 | B99: ='A3 Exploitation'!D289 -> 0
A100: A4 | B100: ='A4 Exploitation'!D289 -> 0
A101: A5 | B101: ='A5 Exploitation'!D289 -> 0
A102: A6 | B102: ='A6 Exploitation'!D289 -> 0
A105: Audit N° | B105: Note-Fleg | J105: =D18 -> Merezgua
A106: A1 | B106: ='A1 Exploitation'!D322 -> 0.94736842
A107: A2 | B107: ='A2 Exploitation'!D322 -> 0
A108: A3 | B108: ='A3 Exploitation'!D322 -> 0
A109: A4 | B109: ='A4 Exploitation'!D322 -> 0
A110: A5 | B110: ='A5 Exploitation'!D322 -> 0
A111: A6 | B111: ='A6 Exploitation'!D322 -> 0
A114: Audit N° | B114: Note-PGC | J114: =D18 -> Merezgua
A115: A1 | B115: ='A1 Exploitation'!D350 -> 0.96428571
A116: A2 | B116: ='A2 Exploitation'!D350 -> 0
A117: A3 | B117: ='A3 Exploitation'!D350 -> 0
A118: A4 | B118: ='A4 Exploitation'!D350 -> 0
A119: A5 | B119: ='A5 Exploitation'!D350 -> 0
A120: A6 | B120: ='A6 Exploitation'!D350 -> 0
A123: Audit N° | B123: Note-PLS | J123: =D18 -> Merezgua
A124: A1 | B124: ='A1 Exploitation'!D403 -> 0.859375
A125: A2 | B125: ='A2 Exploitation'!D403 -> 0
A126: A3 | B126: ='A3 Exploitation'!D403 -> 0
A127: A4 | B127: ='A4 Exploitation'!D403 -> 0
A128: A5 | B128: ='A5 Exploitation'!D403 -> 0
A129: A6 | B129: ='A6 Exploitation'!D403 -> 0
A132: Audit N° | B132: Note-Olives Epices | J132: =D18 -> Merezgua
A133: A1 | B133: ='A1 Exploitation'!D433 -> 0.9375
A134: A2 | B134: ='A2 Exploitation'!D434
A135: A3 | B135: ='A3 Exploitation'!D434
A136: A4 | B136: ='A4 Exploitation'!D434
A137: A5 | B137: ='A5 Exploitation'!D434
A138: A6 | B138: ='A6 Exploitation'!D434
A141: Audit N° | B141: Note-Hyg personnelle | J141: =D18 -> Merezgua
A142: A1 | B142: ='A1 Exploitation'!D452 -> 1
A143: A2 | B143: ='A2 Exploitation'!D453
A144: A3 | B144: ='A3 Exploitation'!D453
A145: A4 | B145: ='A4 Exploitation'!D453
A146: A5 | B146: ='A5 Exploitation'!D453
A147: A6 | B147: ='A6 Exploitation'!D453
...

Sheet A1 Exploitation
C1: 0
C2: 1
C3: 2
C4: NA
A7: Audit hygiène
A8: ='Page de garde'!D18 -> Merezgua
A9: Auditeur | B9: Dr Hend KAMOUN
A10: Audit mené en présence de | B10: Directeur du magasin et chefs de rayons
A11: Date de l'audit | B11: 42774
A12: Note global exploitation | B12: =D505 -> 0.89568345
A14: Paramètres à auditer | B14: Cotation | D14: Observations | E14: Plan d'action | F14: Avancement
B15: 0/1/2 | C15: Sanction
A16: RECEPTION
A17: =B11 -> 42774
A18: EXTERIEUR ET AIRE DE RECEPTION
A19: Propreté de la zone de réception | B19: 2
A20: Propreté du monte-charges et alentours | B20: 2
A21: Propreté et rangement du quai | B21: 2
A22: Rangement palette et emballage | B22: 2
A23: Score partiel | D23: =SUM(B19:C22) -> 8
A24: Taux partiel de conformité | D24: =D23/(COUNT(B19:C22)*2) -> 1
A26: LES CONTROLES A LA RECEPTION
A27: Affichage du tableau des températures réglementaires | B27: 2
A28: Respect de la procédure de contrôle à la réception | B28: 0 | C28: =IF(B28=0, -5, "0") -> -5 | D28: Les températures enregistrées pour l’acceptation des produits surgelés sont non conformes (> -18°C) ex: produits de la mer surgelés, Les températures enregistrées pour l’acceptation des produits réfrigérés sont négatives (ex: volailles, yaourt)
A29: Absence d'attente en réception des marchandises et prévention des croisements des flux (déchets, produits différents…) | B29: 2
A30: Présence, rangement et bon fonctionnement du thermomètre à sonde (avec son matériel de désinfection) et du thermomètre Infra-Rouge | B30: 2
A31: Réalisation et enregistrement de la vérification mensuelle du thermomètre | B31: 2
A32: Enregistrements des paramètres de contrôle à la réception (enregistrement des températures) Présence des documents sanitaires des denrées d'origine animale frais ou congelés (documents de transport, AMC, certificats de salubrité, étiquetage conforme) pour les 6 derniers mois | B32: 1 | D32: Absence des enregistrements de contrôle à la réception des produits en provenance de l'entrepôt (produits de la mer et produits frais). Manque d'enregistrement du contrôle à la reception des produits surgelés seul les produits mahjoub sont enregistrés
A33: Identification et isolement des produits non-conformes (des casses, retours et produits périmés) | B33: 2 | C33: =IF(B33=0, -5, "0") -> 0
A34: Balance propre | B34: 2
A35: Respect de l'hygiène vestimentaires et corporelle | B35: 1 | D35: Port des chaussures de ville et absence de cravate, respecter la charte vestimentaire Carrefour.
A36: Taux de réalisation du plan d'action précédent (2 si tout le PA est réalisé, 1 si le taux 100%>Tx>0%, et 0 si le taux est 0%- ne préciser que le taux dans la case commentaire) | B36: 1 | D36: 0.5
A37: Score partiel | D37: =SUM(B27:C35) -> 9
A38: Taux partiel de conformité | D38: =D37/(COUNT(B27:C35)*2) -> 0.45
A40: Score partiel Réception | D40: =SUM(D37,D23) -> 17
A41: Note Réception | D41: =D40/(COUNT(B27:C35,B19:C22)*2) -> 0.60714286
A43: PATISSERIE, BOULANGERIE
A44: =B11 -> 42774
A45: STOCKAGE DES MP
A46: Propreté de la réserve | B46: 2
A47: Chambres / armoires froides propres et rangées (absence de risque de contamination croisée et de stockage au sol) | B47: 2
A48: Portes maintenues fermées | B48: 2
A49: Produits casse / retour consignés balisés et isolés. | B49: 2
A50: Produits identifiés et correctement protégés | B50: 2 | D50: les œufs sont entreposés sur les étagères de la plonge vu l'absence d'équipements réfrigéré
A51: Respect des DLC/DLUO | B51: 2 | C51: =IF(B51=0, -5, "0") -> 0
A52: Respect du FEFO (First Expired First Out) | B52: 2
A53: Surveillance et enregistrement des températures de stockage | B53: 2 | C53: =IF(B53=0, -5, "0") -> 0
A54: Score partiel | D54: =SUM(B46:C53) -> 16
A55: Taux partiel de conformité | D55: =D54/(COUNT(B46:C53)*2) -> 1
A57: LABORATOIRE ET BOULANGERIE
A58: Absence d'attente à température ambiante | B58: 2
A59: Prévention de la contamination croisée | B59: 2
A60: Propreté des équipements et des locaux | B60: 2
A61: Propreté des outils de travail | B61: 2
A62: Respect des bonnes pratiques de décongélation | B62: 2 | C62: =IF(B62=0, -5, "0") -> 0 | D62: mise en linéaire directement vu l'absence de chambre froide positive
A63: Séparation des traitements des œufs et fruits (temps et espace) | B63: 2
A64: Respect du protocole de décontamination des œufs et fruits (3 bacs, dosage…) | B64: 2 | C64: =IF(B64=0, -5, "0") -> 0
A65: Enregistrement des décontaminations (œufs et fruits) | B65: 2
A66: Protection des produits semi-finis | B66: 2
A67: Identification et durée de vie des produits semi-finis | B67: 2
A68: Tamisage conforme | B68: NA
A69: Gestion des corps étrangers et enregistrement (scarificateur,…) | B69: NA
A70: Traçabilités des produits finis | B70: 2 | C70: =IF(B70=0, -5, "0") -> 0
A71: Conformité du rangement des emballages | B71: 2
A72: Respect du protocole de refroidissement des crèmes | B72: NA
A73: Contrôle des poids des pains et enregistrements | B73: 2
A74: Présence, conformité et vérification du thermomètre | B74: 0 | D74: absence de thermometre a sonde
A75: Présence de laves mains accessible propres | B75: 2 | C75: =IF(B75=0, -5, "0") -> 0
A76: Hygiène vestimentaire et comportementale | B76: 2 | C76: =IF(B76=0, -5, "0") -> 0
A77: Hygiène corporelle et des mains | B77: 2
A78: Conformité et propreté de la plonge, des outils et des produits de nettoyage | B78: 1 | D78: Les bidons de DEPTAL portent une date d’expiration 21/01/2017 périmée
A79: Enregistrement des autocontrôles: nettoyage | B79: 2
A80: Stockage des produits d'entretien et respect des protocoles et des plans de nettoyage et de désinfection | B80: 0
A81: Score partiel | D81: =SUM(B58:C80) -> 35
A82: Taux partiel de conformité | D82: =D81/(COUNT(B58:C80)*2) -> 0.875
A84: LINEAIRES
A85: Absence d'attente à température ambiante | B85: 2
A86: Propreté des meubles satisfaisante | B86: 2
A87: Respect des DLC | B87: 2 | C87: =IF(B87=0, -5, "0") -> 0
A88: Respect des Dates Limites de retrait et rotation des stocks (FEFO) | B88: 2
A89: Surveillance et enregistrement des températures d'exposition | B89: 2
A90: étiquetage et identification des produits | B90: 2 | D90: Etiquetage de Certains produits non conformes ne comportant pas l’ensemble des ingrédients (manque du sésame) ex :Croquant aux céréales (pâtisserie essada) et kaak dattes (ennajari), étiquetage non conforme du produit nougat kehili manque d’indication du sésame, arachides, et fruits secs (allergènes majeurs), La durée de vie indiquée sur les étiquettes fournisseur de food solution est 3 jours après la décongélation hors la durée de vie sur les étiquettes balance sont >3 jours, La durée de vie indiquée sur les étiquettes fournisseur l'opéra 20x20 sopral est 5 jours après la décongélation hors la durée de vie sur les étiquettes balance est 6 jours
A91: Respect des bonnes pratiques d'exposition (risque de contamination ) | B91: 2
A92: Taux de réalisation du plan d'action précédent (2 si tout le PA est réalisé, 1 si le taux 100%>Tx>0%, et 0 si le taux est 0%- ne préciser que le taux dans la case commentaire) | B92: 1 | D92: 0.8181
A93: Score partiel | D93: =SUM(B85:C91) -> 14
A94: Taux partiel de conformité | D94: =D93/(COUNT(B85:C91)*2) -> 1
A96: Score partiel Pâtisserie, boulangerie et viennoiserie | D96: =SUM(D81,D93,D54) -> 65
A97: Note Pâtisserie, boulangerie et viennoiserie | D97: =D96/(COUNT(B85:C91,B46:C53,B58:C80)*2) -> 0.92857143
A99: TRAITEUR
A100: =B11 -> 42774
A101: STOCKAGE DES MP
A102: Chambres / armoires froides propres et rangées | B102: 2
A103: Portes maintenues fermées | B103: 2
A104: Propreté des éléments de stockage | B104: 2
A105: Produits casse / retour consignés balisés et isolés. | B105: 2
A106: Aspect général, identification et protection des produits (MP et semi-fini) | B106: 2
A107: Respect des DLC | B107: 2 | C107: =IF(B107=0, -5, "0") -> 0
A108: Respect du FEFO (First Expired First Out) et rotation des stocks | B108: 2
A109: Surveillance et enregistrement des températures de stockage | B109: 1 | C109: =IF(B109=0, -5, "0") -> 0 | D109: Les températures à cœur et d'ambiance n'étaient pas prélevées.
A110: Score partiel | D110: =SUM(B102:C109) -> 15
...

Sheet A1 Technique
B1: 0
B2: 1
B3: 2
B4: NA
A6: Audit hygiène Magasin
A7: ='A1 Exploitation'!A8:F8 -> Merezgua
A8: Auditeur | B8: ='A1 Exploitation'!B9:F9 -> Dr Hend KAMOUN
A9: Audit mené en présence de | B9: ='A1 Exploitation'!B10:F10 -> Directeur du magasin et chefs de rayons
A10: Date de l'audit | B10: ='A1 Exploitation'!B11:F11 -> 42774
A11: Taux global de Etat-Technique | B11: =D198 -> 0.92792793
A13: Paramètres à auditer | B13: Cotation | D13: Observations | E13: Plan d'action proposé | F13: Avancement
B14: 0/1/2 | C14: Sanction
A16: RECEPTION
A17: Protection du quai de réception (étanchéité…) | B17: 2
A18: Balance fonctionnelle | B18: 0 | D18: un dysfonctionnement de la balance a été remarqué par le chef de reception
A19: Etat des sols | B19: 2
A20: Etat des murs et plafonds | B20: 2
A21: Eclairage suffisant et protégé | B21: 2
A22: Score partiel | D22: =SUM(B17:C21) -> 8
A23: Taux partiel de Etat | D23: =D22/(COUNT(B17:C21)*2) -> 0.8
A25: FRUITS ET LEGUMES
A26: Entretien des chambres froides, portières et étagères | B26: 2 | C26: =IF(B26=0, -5, "0") -> 0
A27: Températures de stockage adaptée | B27: 2
A28: Etat des meubles froids | B28: 2
A29: Etat des Evaporateurs | B29: 2
A30: Etat du présentoir | B30: 2
A31: Etat du système d'éclairage | B31: 2
A32: Score partiel | D32: =SUM(B26:C31) -> 12
A33: Taux partiel de Etat | D33: =D32/(COUNT(B26:C31)*2) -> 1
A35: OLIVES EPICES ET CONDIMENTS
A36: Entretien des chambres froides, portières et étagères | B36: 2 | C36: =IF(B36=0, -5, "0") -> 0
A37: Températures de stockage adaptées | B37: 2
A38: Etat des éléments d'exposition | B38: 2
A39: Etat du présentoir | B39: 2
A40: Etat du système d'éclairage | B40: 2
A41: Score partiel | D41: =SUM(B36:C40) -> 10
A42: Taux partiel de Etat | D42: =D41/(COUNT(B36:C40)*2) -> 1
A44: PGC
A45: Etat et revêtement des locaux de stockage | B45: 2
A46: Etat des meubles de stockage | B46: 2
A47: Etat des meubles d'exposition | B47: 1 | D47: Revêtement écaillé des étagères.
A48: Eclairage | B48: 2
A49: Hygrométrie dans la réserve | B49: 2 | D49: L'hygrométrie dans la réserve était 54%. Correcte.
A50: Etat des sources d'aération | B50: 2 | C50: =IF(B50=0, -5, "0") -> 0
A51: Score partiel | D51: =SUM(B45:C50) -> 11
A52: Taux partiel de Etat | D52: =D51/(COUNT(B45:C50)*2) -> 0.91666667
A54: PLS
A55: Entretien des chambres froides (matériel et revêtements) , portières et étagères | B55: 2 | C55: =IF(B55=0, -5, "0") -> 0
A56: Evaporateurs propres | B56: 2
A57: Etat des meubles froids et neutres (caches, …) | B57: 2
A58: Absence de givre dans les meubles froids (-) | B58: 2
A59: Températures affichées et mesurées au niveaux des meubles (+-) | B59: 2 | C59: =IF(B59=0, -5, "0") -> 0
A60: Etat des températures des produits | B60: 2 | C60: =IF(B60=0, -5, "0") -> 0
A61: Etat du système d'éclairage | B61: 2
A62: Score partiel | D62: =SUM(B55:C61) -> 14
A63: Taux partiel de Etat | D63: =D62/(COUNT(B55:C61)*2) -> 1
A65: PATISSERIE, BOULANGERIE
A66: Etat et revêtement de la réserve et des éléments de stockage | B66: NA
A67: Etat et revêtement des locaux de travail | B67: 1 | D67: La pâtisserie ouvrait sur le couloir des chambres froides. Prévoir des rideaux lanières à ce niveau.
A68: Etat du système d'éclairage | B68: 2
A69: Systèmes de ventilation et de climatisation/Evaporateurs propres | B69: 2
A70: Hygrométrie dans la réserve | B70: NA
A71: Etat des éléments de stockage dans la réserve | B71: NA
A72: Hottes présentes et fonctionnelles | B72: 2
A73: Etat et intégrité des tamis | B73: NA
A74: Températures de stockage au froid affichée mesurée et conforme | B74: 2 | C74: =IF(B74=0, -5, "0") -> 0
A75: Température dans le laboratoire affichée mesurée et conforme | B75: NA | C75: =IF(B75=0, -5, "0") -> 0 | D75: non climatisé
A76: Etat et entretien des chambres froides et chambres de pousse | B76: 2 | C76: =IF(B76=0, -5, "0") -> 0
A77: Etat global et fonctionnalité des équipements de travail | B77: 2
A78: Etat global et fonctionnalité des meubles froids | B78: 0 | D78: absence d'équipement réfrigéré pour le stockage des œufs
A79: Températures affichées et mesurée au niveaux des meubles d'exposition | B79: 2 | C79: =IF(B79=0, -5, "0") -> 0
A80: Propreté et Etat des grilles d'aération | B80: 2
A81: Etat des températures des produits | B81: 2 | C81: =IF(B81=0, -5, "0") -> 0
A82: Etat des meubles d'exposition des boulangeries | B82: 2
A83: Score partiel | D83: =SUM(B66:C82) -> 21
A84: Taux partiel de Etat | D84: =D83/(COUNT(B66:C82)*2) -> 0.875
A86: TRAITEUR
A87: Etat, revêtement et entretien des chambres froides /armoires et portières | B87: 2
A88: Etat et revêtement des locaux de travail | B88: 2
A89: Etat des éléments de stockage | B89: 2
A90: Etat du système d'éclairage au niveau de la réserve et des laboratoires | B90: 2
A91: Systèmes de ventilation et de climatisation/Propreté des évaporateurs | B91: 1 | D91: Fuite d'eau au niveau des évaporateurs des chambres froides.
A92: Températures affichée et mesurée de stockage au froid conformes | B92: 2 | C92: =IF(B92=0, -5, "0") -> 0
A93: Température dans le laboratoire | B93: 2 | C93: =IF(B93=0, -5, "0") -> 0
A94: Meubles d'exposition conformes et fonctionnels | B94: 2
A95: Etat des plans de travail | B95: 2
A96: Etat des équipements de cuisson | B96: 1 | D96: Une portières de la rôtissoire était démontée.
A97: Hotte conforme et fonctionnelle | B97: 2
A98: Températures affichées et mesurée au niveau des meubles conformes | B98: 2 | C98: =IF(B98=0, -5, "0") -> 0 | D98: la température affichée du meuble froid est 6.1°C et la température vérifiée est 5.9°C
A99: Etat des températures des produits | B99: 2 | C99: =IF(B99=0, -5, "0") -> 0
A100: Etat global et fonctionnalité des équipements de travail | B100: 2
A101: Score partiel | D101: =SUM(B87:C100) -> 26
A102: Taux partiel de Etat | D102: =D101/(COUNT(B87:C100)*2) -> 0.92857143
A105: CHARCUTERIES ET FROMAGES
A106: Etat et revêtement et entretien des chambres froides /armoires et portières | B106: 2
A107: Conception et revêtement des locaux de travail | B107: 2
A108: Etat des éléments de stockage | B108: 2
A109: Etat du système d'éclairage au niveau de la réserve | B109: 2
A110: Systèmes de ventilation et de climatisation/Propreté des évaporateurs | B110: 2
A111: Températures affichée et mesurée de stockage au froid conformes | B111: 2 | C111: =IF(B111=0, -5, "0") -> 0
...

Sheet A2 Exploitation
C1: 0
C2: 1
C3: 2
C4: NA
A7: Audit hygiène
A8: ='Page de garde'!D18 -> Merezgua
A9: Auditeur
A10: Audit mené en présence de
A11: Date de l'audit
A12: Note global exploitation | B12: =D505 -> 0
A14: Paramètres à auditer | B14: Cotation | D14: Observations | E14: Plan d'action | F14: Avancement
B15: 0/1/2 | C15: Sanction
A16: RECEPTION
A17: =B11
A18: EXTERIEUR ET AIRE DE RECEPTION
A19: Propreté de la zone de réception | B19: 0
A20: Propreté du monte-charges et alentours | B20: 0
A21: Propreté et rangement du quai | B21: 0
A22: Rangement palette et emballage | B22: 0
A23: Score partiel | D23: =SUM(B19:C22) -> 0
A24: Taux partiel de conformité | D24: =D23/(COUNT(B19:C22)*2) -> 0
A26: LES CONTROLES A LA RECEPTION
A27: Affichage du tableau des températures réglementaires | B27: 0
A28: Respect de la procédure de contrôle à la réception | B28: NA | C28: =IF(B28=0, -5, "0") -> 0
A29: Absence d'attente en réception des marchandises et prévention des croisements des flux (déchets, produits différents…) | B29: 0
A30: Présence, rangement et bon fonctionnement du thermomètre à sonde (avec son matériel de désinfection) et du thermomètre Infra-Rouge | B30: 0
A31: Réalisation et enregistrement de la vérification mensuelle du thermomètre | B31: 0
A32: Enregistrements des paramètres de contrôle à la réception (enregistrement des températures) Présence des documents sanitaires des denrées d'origine animale frais ou congelés (documents de transport, AMC, certificats de salubrité, étiquetage conforme) pour les 6 derniers mois | B32: 0
A33: Identification et isolement des produits non-conformes (des casses, retours et produits périmés) | B33: NA | C33: =IF(B33=0, -5, "0") -> 0
A34: Balance propre | B34: 0
A35: Respect de l'hygiène vestimentaires et corporelle | B35: 0
A36: Taux de réalisation du plan d'action précédent (2 si tout le PA est réalisé, 1 si le taux 100%>Tx>0%, et 0 si le taux est 0%- ne préciser que le taux dans la case commentaire) | B36: 0
A37: Score partiel | D37: =SUM(B27:C35) -> 0
A38: Taux partiel de conformité | D38: =D37/(COUNT(B27:C35)*2) -> 0
A40: Score partiel Réception | D40: =SUM(D37,D23) -> 0
A41: Note Réception | D41: =D40/(COUNT(B27:C35,B19:C22)*2) -> 0
A43: PATISSERIE, BOULANGERIE
A44: =B11
A45: STOCKAGE DES MP
A46: Propreté de la réserve | B46: 0
A47: Chambres / armoires froides propres et rangées (absence de risque de contamination croisée et de stockage au sol) | B47: 0
A48: Portes maintenues fermées | B48: 0
A49: Produits casse / retour consignés balisés et isolés. | B49: 0
A50: Produits identifiés et correctement protégés | B50: 0
A51: Respect des DLC/DLUO | B51: NA | C51: =IF(B51=0, -5, "0") -> 0
A52: Respect du FEFO (First Expired First Out) | B52: 0
A53: Surveillance et enregistrement des températures de stockage | B53: NA | C53: =IF(B53=0, -5, "0") -> 0
A54: Score partiel | D54: =SUM(B46:C53) -> 0
A55: Taux partiel de conformité | D55: =D54/(COUNT(B46:C53)*2) -> 0
A57: LABORATOIRE ET BOULANGERIE
A58: Absence d'attente à température ambiante | B58: 0
A59: Prévention de la contamination croisée | B59: 0
A60: Propreté des équipements et des locaux | B60: 0
A61: Propreté des outils de travail | B61: 0
A62: Respect des bonnes pratiques de décongélation | B62: NA | C62: =IF(B62=0, -5, "0") -> 0
A63: Séparation des traitements des œufs et fruits (temps et espace) | B63: 0
A64: Respect du protocole de décontamination des œufs et fruits (3 bacs, dosage…) | B64: NA | C64: =IF(B64=0, -5, "0") -> 0
A65: Enregistrement des décontaminations (œufs et fruits) | B65: 0
A66: Protection des produits semi-finis | B66: 0
A67: Identification et durée de vie des produits semi-finis | B67: 0
A68: Tamisage conforme | B68: 0
A69: Gestion des corps étrangers et enregistrement (scarificateur,…) | B69: 0
A70: Traçabilités des produits finis | B70: NA | C70: =IF(B70=0, -5, "0") -> 0
A71: Conformité du rangement des emballages | B71: 0
A72: Respect du protocole de refroidissement des crèmes | B72: 0
A73: Contrôle des poids des pains et enregistrements | B73: 0
A74: Présence, conformité et vérification du thermomètre | B74: 0
A75: Présence de laves mains accessible propres | B75: NA | C75: =IF(B75=0, -5, "0") -> 0
A76: Hygiène vestimentaire et comportementale | B76: NA | C76: =IF(B76=0, -5, "0") -> 0
A77: Hygiène corporelle et des mains | B77: 0
A78: Conformité et propreté de la plonge, des outils et des produits de nettoyage | B78: 0
A79: Enregistrement des autocontrôles: nettoyage | B79: 0
A80: Stockage des produits d'entretien et respect des protocoles et des plans de nettoyage et de désinfection | B80: 0
A81: Score partiel | D81: =SUM(B58:C80) -> 0
A82: Taux partiel de conformité | D82: =D81/(COUNT(B58:C80)*2) -> 0
A84: LINEAIRES
A85: Absence d'attente à température ambiante | B85: 0
A86: Propreté des meubles satisfaisante | B86: 0
A87: Respect des DLC | B87: NA | C87: =IF(B87=0, -5, "0") -> 0
A88: Respect des Dates Limites de retrait et rotation des stocks (FEFO) | B88: 0
A89: Surveillance et enregistrement des températures d'exposition | B89: 0
A90: étiquetage et identification des produits | B90: 0
A91: Respect des bonnes pratiques d'exposition (risque de contamination ) | B91: 0
A92: Taux de réalisation du plan d'action précédent (2 si tout le PA est réalisé, 1 si le taux 100%>Tx>0%, et 0 si le taux est 0%- ne préciser que le taux dans la case commentaire) | B92: 0
A93: Score partiel | D93: =SUM(B85:C91) -> 0
A94: Taux partiel de conformité | D94: =D93/(COUNT(B85:C91)*2) -> 0
A96: Score partiel Pâtisserie, boulangerie et viennoiserie | D96: =SUM(D81,D93,D54) -> 0
A97: Note Pâtisserie, boulangerie et viennoiserie | D97: =D96/(COUNT(B85:C91,B46:C53,B58:C80)*2) -> 0
A99: TRAITEUR
A100: =B11
A101: STOCKAGE DES MP
A102: Chambres / armoires froides propres et rangées | B102: 0
A103: Portes maintenues fermées | B103: 0
A104: Propreté des éléments de stockage | B104: 0
A105: Produits casse / retour consignés balisés et isolés. | B105: 0
A106: Aspect général, identification et protection des produits (MP et semi-fini) | B106: 0
A107: Respect des DLC | B107: NA | C107: =IF(B107=0, -5, "0") -> 0
A108: Respect du FEFO (First Expired First Out) et rotation des stocks | B108: 0
A109: Surveillance et enregistrement des températures de stockage | B109: NA | C109: =IF(B109=0, -5, "0") -> 0
A110: Score partiel | D110: =SUM(B102:C109) -> 0
...

Sheet A2 Technique
B1: 0
B2: 1
B3: 2
B4: NA
A6: Audit hygiène Magasin
A7: ='A1 Exploitation'!A8:F8 -> Merezgua
A8: Auditeur | B8: ='A2 Exploitation'!B9:F9
A9: Audit mené en présence de | B9: ='A2 Exploitation'!B10:F10
A10: Date de l'audit | B10: ='A2 Exploitation'!B11:F11
A11: Taux global de Etat-Technique | B11: =D198 -> 0
A13: Paramètres à auditer | B13: Cotation | D13: Observations | E13: Plan d'action proposé | F13: Avancement
B14: 0/1/2 | C14: Sanction
A16: RECEPTION
A17: Protection du quai de réception (étanchéité…) | B17: 0
A18: Balance fonctionnelle | B18: 0
A19: Etat des sols | B19: 0
A20: Etat des murs et plafonds | B20: 0
A21: Eclairage suffisant et protégé | B21: 0
A22: Score partiel | D22: =SUM(B17:C21) -> 0
A23: Taux partiel de Etat | D23: =D22/(COUNT(B17:C21)*2) -> 0
A25: FRUITS ET LEGUMES
A26: Entretien des chambres froides, portières et étagères | B26: NA | C26: =IF(B26=0, -5, "0") -> 0
A27: Températures de stockage adaptée | B27: 0
A28: Etat des meubles froids | B28: 0
A29: Etat des Evaporateurs | B29: 0
A30: Etat du présentoir | B30: 0
A31: Etat du système d'éclairage | B31: 0
A32: Score partiel | D32: =SUM(B26:C31) -> 0
A33: Taux partiel de Etat | D33: =D32/(COUNT(B26:C31)*2) -> 0
A35: OLIVES EPICES ET CONDIMENTS
A36: Entretien des chambres froides, portières et étagères | B36: NA | C36: =IF(B36=0, -5, "0") -> 0
A37: Températures de stockage adaptées | B37: 0
A38: Etat des éléments d'exposition | B38: 0
A39: Etat du présentoir | B39: 0
A40: Etat du système d'éclairage | B40: 0
A41: Score partiel | D41: =SUM(B36:C40) -> 0
A42: Taux partiel de Etat | D42: =D41/(COUNT(B36:C40)*2) -> 0
A44: PGC
A45: Etat et revêtement des locaux de stockage | B45: 0
A46: Etat des meubles de stockage | B46: 0
A47: Etat des meubles d'exposition | B47: 0
A48: Eclairage | B48: 0
A49: Hygrométrie dans la réserve | B49: 0
A50: Etat des sources d'aération | B50: NA | C50: =IF(B50=0, -5, "0") -> 0
A51: Score partiel | D51: =SUM(B45:C50) -> 0
A52: Taux partiel de Etat | D52: =D51/(COUNT(B45:C50)*2) -> 0
A54: PLS
A55: Entretien des chambres froides (matériel et revêtements) , portières et étagères | B55: NA | C55: =IF(B55=0, -5, "0") -> 0
A56: Evaporateurs propres | B56: 0
A57: Etat des meubles froids et neutres (caches, …) | B57: 0
A58: Absence de givre dans les meubles froids (-) | B58: 0
A59: Températures affichées et mesurées au niveaux des meubles (+-) | B59: NA | C59: =IF(B59=0, -5, "0") -> 0
A60: Etat des températures des produits | B60: NA | C60: =IF(B60=0, -5, "0") -> 0
A61: Etat du système d'éclairage | B61: 0
A62: Score partiel | D62: =SUM(B55:C61) -> 0
A63: Taux partiel de Etat | D63: =D62/(COUNT(B55:C61)*2) -> 0
A65: PATISSERIE, BOULANGERIE
A66: Etat et revêtement de la réserve et des éléments de stockage | B66: 0
A67: Etat et revêtement des locaux de travail | B67: 0
A68: Etat du système d'éclairage | B68: 0
A69: Systèmes de ventilation et de climatisation/Evaporateurs propres | B69: 0
A70: Hygrométrie dans la réserve | B70: 0
A71: Etat des éléments de stockage dans la réserve | B71: 0
A72: Hottes présentes et fonctionnelles | B72: 0
A73: Etat et intégrité des tamis | B73: 0
A74: Températures de stockage au froid affichée mesurée et conforme | B74: NA | C74: =IF(B74=0, -5, "0") -> 0
A75: Température dans le laboratoire affichée mesurée et conforme | B75: NA | C75: =IF(B75=0, -5, "0") -> 0
A76: Etat et entretien des chambres froides et chambres de pousse | B76: NA | C76: =IF(B76=0, -5, "0") -> 0
A77: Etat global et fonctionnalité des équipements de travail | B77: 0
A78: Etat global et fonctionnalité des meubles froids | B78: 0
A79: Températures affichées et mesurée au niveaux des meubles d'exposition | B79: NA | C79: =IF(B79=0, -5, "0") -> 0
A80: Propreté et Etat des grilles d'aération | B80: 0
A81: Etat des températures des produits | B81: NA | C81: =IF(B81=0, -5, "0") -> 0
A82: Etat des meubles d'exposition des boulangeries | B82: 0
A83: Score partiel | D83: =SUM(B66:C82) -> 0
A84: Taux partiel de Etat | D84: =D83/(COUNT(B66:C82)*2) -> 0
A86: TRAITEUR
A87: Etat, revêtement et entretien des chambres froides /armoires et portières | B87: 0
A88: Etat et revêtement des locaux de travail | B88: 0
A89: Etat des éléments de stockage | B89: 0
A90: Etat du système d'éclairage au niveau de la réserve et des laboratoires | B90: 0
A91: Systèmes de ventilation et de climatisation/Propreté des évaporateurs | B91: 0
A92: Températures affichée et mesurée de stockage au froid conformes | B92: NA | C92: =IF(B92=0, -5, "0") -> 0
A93: Température dans le laboratoire | B93: NA | C93: =IF(B93=0, -5, "0") -> 0
A94: Meubles d'exposition conformes et fonctionnels | B94: 0
A95: Etat des plans de travail | B95: 0
A96: Etat des équipements de cuisson | B96: 0
A97: Hotte conforme et fonctionnelle | B97: 0
A98: Températures affichées et mesurée au niveau des meubles conformes | B98: NA | C98: =IF(B98=0, -5, "0") -> 0
A99: Etat des températures des produits | B99: NA | C99: =IF(B99=0, -5, "0") -> 0
A100: Etat global et fonctionnalité des équipements de travail | B100: 0
A101: Score partiel | D101: =SUM(B87:C100) -> 0
A102: Taux partiel de Etat | D102: =D101/(COUNT(B87:C100)*2) -> 0
A105: CHARCUTERIES ET FROMAGES
A106: Etat et revêtement et entretien des chambres froides /armoires et portières | B106: 0
A107: Conception et revêtement des locaux de travail | B107: 0
A108: Etat des éléments de stockage | B108: 0
A109: Etat du système d'éclairage au niveau de la réserve | B109: 0
A110: Systèmes de ventilation et de climatisation/Propreté des évaporateurs | B110: 0
A111: Températures affichée et mesurée de stockage au froid conformes | B111: NA | C111: =IF(B111=0, -5, "0") -> 0
...

Sheet A3 Exploitation
C1: 0
C2: 1
C3: 2
C4: NA
A7: Audit hygiène
A8: ='Page de garde'!D18 -> Merezgua
A9: Auditeur
A10: Audit mené en présence de
A11: Date de l'audit
A12: Note global exploitation | B12: =D505 -> 0
A14: Paramètres à auditer | B14: Cotation | D14: Observations | E14: Plan d'action | F14: Avancement
B15: 0/1/2 | C15: Sanction
A16: RECEPTION
A17: =B11
A18: EXTERIEUR ET AIRE DE RECEPTION
A19: Propreté de la zone de réception | B19: 0
A20: Propreté du monte-charges et alentours | B20: 0
A21: Propreté et rangement du quai | B21: 0
A22: Rangement palette et emballage | B22: 0
A23: Score partiel | D23: =SUM(B19:C22) -> 0
A24: Taux partiel de conformité | D24: =D23/(COUNT(B19:C22)*2) -> 0
A26: LES CONTROLES A LA RECEPTION
A27: Affichage du tableau des températures réglementaires | B27: 0
A28: Respect de la procédure de contrôle à la réception | B28: NA | C28: =IF(B28=0, -5, "0") -> 0
A29: Absence d'attente en réception des marchandises et prévention des croisements des flux (déchets, produits différents…) | B29: 0
A30: Présence, rangement et bon fonctionnement du thermomètre à sonde (avec son matériel de désinfection) et du thermomètre Infra-Rouge | B30: 0
A31: Réalisation et enregistrement de la vérification mensuelle du thermomètre | B31: 0
A32: Enregistrements des paramètres de contrôle à la réception (enregistrement des températures) Présence des documents sanitaires des denrées d'origine animale frais ou congelés (documents de transport, AMC, certificats de salubrité, étiquetage conforme) pour les 6 derniers mois | B32: 0
A33: Identification et isolement des produits non-conformes (des casses, retours et produits périmés) | B33: NA | C33: =IF(B33=0, -5, "0") -> 0
A34: Balance propre | B34: 0
A35: Respect de l'hygiène vestimentaires et corporelle | B35: 0
A36: Taux de réalisation du plan d'action précédent (2 si tout le PA est réalisé, 1 si le taux 100%>Tx>0%, et 0 si le taux est 0%- ne préciser que le taux dans la case commentaire) | B36: 0
A37: Score partiel | D37: =SUM(B27:C35) -> 0
A38: Taux partiel de conformité | D38: =D37/(COUNT(B27:C35)*2) -> 0
A40: Score partiel Réception | D40: =SUM(D37,D23) -> 0
A41: Note Réception | D41: =D40/(COUNT(B27:C35,B19:C22)*2) -> 0
A43: PATISSERIE, BOULANGERIE
A44: =B11
A45: STOCKAGE DES MP
A46: Propreté de la réserve | B46: 0
A47: Chambres / armoires froides propres et rangées (absence de risque de contamination croisée et de stockage au sol) | B47: 0
A48: Portes maintenues fermées | B48: 0
A49: Produits casse / retour consignés balisés et isolés. | B49: 0
A50: Produits identifiés et correctement protégés | B50: 0
A51: Respect des DLC/DLUO | B51: NA | C51: =IF(B51=0, -5, "0") -> 0
A52: Respect du FEFO (First Expired First Out) | B52: 0
A53: Surveillance et enregistrement des températures de stockage | B53: NA | C53: =IF(B53=0, -5, "0") -> 0
A54: Score partiel | D54: =SUM(B46:C53) -> 0
A55: Taux partiel de conformité | D55: =D54/(COUNT(B46:C53)*2) -> 0
A57: LABORATOIRE ET BOULANGERIE
A58: Absence d'attente à température ambiante | B58: 0
A59: Prévention de la contamination croisée | B59: 0
A60: Propreté des équipements et des locaux | B60: 0
A61: Propreté des outils de travail | B61: 0
A62: Respect des bonnes pratiques de décongélation | B62: NA | C62: =IF(B62=0, -5, "0") -> 0
A63: Séparation des traitements des œufs et fruits (temps et espace) | B63: 0
A64: Respect du protocole de décontamination des œufs et fruits (3 bacs, dosage…) | B64: NA | C64: =IF(B64=0, -5, "0") -> 0
A65: Enregistrement des décontaminations (œufs et fruits) | B65: 0
A66: Protection des produits semi-finis | B66: 0
A67: Identification et durée de vie des produits semi-finis | B67: 0
A68: Tamisage conforme | B68: 0
A69: Gestion des corps étrangers et enregistrement (scarificateur,…) | B69: 0
A70: Traçabilités des produits finis | B70: NA | C70: =IF(B70=0, -5, "0") -> 0
A71: Conformité du rangement des emballages | B71: 0
A72: Respect du protocole de refroidissement des crèmes | B72: 0
A73: Contrôle des poids des pains et enregistrements | B73: 0
A74: Présence, conformité et vérification du thermomètre | B74: 0
A75: Présence de laves mains accessible propres | B75: NA | C75: =IF(B75=0, -5, "0") -> 0
A76: Hygiène vestimentaire et comportementale | B76: NA | C76: =IF(B76=0, -5, "0") -> 0
A77: Hygiène corporelle et des mains | B77: 0
A78: Conformité et propreté de la plonge, des outils et des produits de nettoyage | B78: 0
A79: Enregistrement des autocontrôles: nettoyage | B79: 0
A80: Stockage des produits d'entretien et respect des protocoles et des plans de nettoyage et de désinfection | B80: 0
A81: Score partiel | D81: =SUM(B58:C80) -> 0
A82: Taux partiel de conformité | D82: =D81/(COUNT(B58:C80)*2) -> 0
A84: LINEAIRES
A85: Absence d'attente à température ambiante | B85: 0
A86: Propreté des meubles satisfaisante | B86: 0
A87: Respect des DLC | B87: NA | C87: =IF(B87=0, -5, "0") -> 0
A88: Respect des Dates Limites de retrait et rotation des stocks (FEFO) | B88: 0
A89: Surveillance et enregistrement des températures d'exposition | B89: 0
A90: étiquetage et identification des produits | B90: 0
A91: Respect des bonnes pratiques d'exposition (risque de contamination ) | B91: 0
A92: Taux de réalisation du plan d'action précédent (2 si tout le PA est réalisé, 1 si le taux 100%>Tx>0%, et 0 si le taux est 0%- ne préciser que le taux dans la case commentaire) | B92: 0
A93: Score partiel | D93: =SUM(B85:C91) -> 0
A94: Taux partiel de conformité | D94: =D93/(COUNT(B85:C91)*2) -> 0
A96: Score partiel Pâtisserie, boulangerie et viennoiserie | D96: =SUM(D81,D93,D54) -> 0
A97: Note Pâtisserie, boulangerie et viennoiserie | D97: =D96/(COUNT(B85:C91,B46:C53,B58:C80)*2) -> 0
A99: TRAITEUR
A100: =B11
A101: STOCKAGE DES MP
A102: Chambres / armoires froides propres et rangées | B102: 0
A103: Portes maintenues fermées | B103: 0
A104: Propreté des éléments de stockage | B104: 0
A105: Produits casse / retour consignés balisés et isolés. | B105: 0
A106: Aspect général, identification et protection des produits (MP et semi-fini) | B106: 0
A107: Respect des DLC | B107: NA | C107: =IF(B107=0, -5, "0") -> 0
A108: Respect du FEFO (First Expired First Out) et rotation des stocks | B108: 0
A109: Surveillance et enregistrement des températures de stockage | B109: NA | C109: =IF(B109=0, -5, "0") -> 0
A110: Score partiel | D110: =SUM(B102:C109) -> 0
...

Sheet A3 Technique
B1: 0
B2: 1
B3: 2
B4: NA
A6: Audit hygiène Magasin
A7: ='A1 Exploitation'!A8:F8 -> Merezgua
A8: Auditeur | B8: ='A3 Exploitation'!B9:F9
A9: Audit mené en présence de | B9: ='A3 Exploitation'!B10:F10
A10: Date de l'audit | B10: ='A3 Exploitation'!B11:F11
A11: Taux global de Etat-Technique | B11: =D198 -> 0
A13: Paramètres à auditer | B13: Cotation | D13: Observations | E13: Plan d'action proposé | F13: Avancement
B14: 0/1/2 | C14: Sanction
A16: RECEPTION
A17: Protection du quai de réception (étanchéité…) | B17: 0
A18: Balance fonctionnelle | B18: 0
A19: Etat des sols | B19: 0
A20: Etat des murs et plafonds | B20: 0
A21: Eclairage suffisant et protégé | B21: 0
A22: Score partiel | D22: =SUM(B17:C21) -> 0
A23: Taux partiel de Etat | D23: =D22/(COUNT(B17:C21)*2) -> 0
A25: FRUITS ET LEGUMES
A26: Entretien des chambres froides, portières et étagères | B26: NA | C26: =IF(B26=0, -5, "0") -> 0
A27: Températures de stockage adaptée | B27: 0
A28: Etat des meubles froids | B28: 0
A29: Etat des Evaporateurs | B29: 0
A30: Etat du présentoir | B30: 0
A31: Etat du système d'éclairage | B31: 0
A32: Score partiel | D32: =SUM(B26:C31) -> 0
A33: Taux partiel de Etat | D33: =D32/(COUNT(B26:C31)*2) -> 0
A35: OLIVES EPICES ET CONDIMENTS
A36: Entretien des chambres froides, portières et étagères | B36: NA | C36: =IF(B36=0, -5, "0") -> 0
A37: Températures de stockage adaptées | B37: 0
A38: Etat des éléments d'exposition | B38: 0
A39: Etat du présentoir | B39: 0
A40: Etat du système d'éclairage | B40: 0
A41: Score partiel | D41: =SUM(B36:C40) -> 0
A42: Taux partiel de Etat | D42: =D41/(COUNT(B36:C40)*2) -> 0
A44: PGC
A45: Etat et revêtement des locaux de stockage | B45: 0
A46: Etat des meubles de stockage | B46: 0
A47: Etat des meubles d'exposition | B47: 0
A48: Eclairage | B48: 0
A49: Hygrométrie dans la réserve | B49: 0
A50: Etat des sources d'aération | B50: NA | C50: =IF(B50=0, -5, "0") -> 0
A51: Score partiel | D51: =SUM(B45:C50) -> 0
A52: Taux partiel de Etat | D52: =D51/(COUNT(B45:C50)*2) -> 0
A54: PLS
A55: Entretien des chambres froides (matériel et revêtements) , portières et étagères | B55: NA | C55: =IF(B55=0, -5, "0") -> 0
A56: Evaporateurs propres | B56: 0
A57: Etat des meubles froids et neutres (caches, …) | B57: 0
A58: Absence de givre dans les meubles froids (-) | B58: 0
A59: Températures affichées et mesurées au niveaux des meubles (+-) | B59: NA | C59: =IF(B59=0, -5, "0") -> 0
A60: Etat des températures des produits | B60: NA | C60: =IF(B60=0, -5, "0") -> 0
A61: Etat du système d'éclairage | B61: 0
A62: Score partiel | D62: =SUM(B55:C61) -> 0
A63: Taux partiel de Etat | D63: =D62/(COUNT(B55:C61)*2) -> 0
A65: PATISSERIE, BOULANGERIE
A66: Etat et revêtement de la réserve et des éléments de stockage | B66: 0
A67: Etat et revêtement des locaux de travail | B67: 0
A68: Etat du système d'éclairage | B68: 0
A69: Systèmes de ventilation et de climatisation/Evaporateurs propres | B69: 0
A70: Hygrométrie dans la réserve | B70: 0
A71: Etat des éléments de stockage dans la réserve | B71: 0
A72: Hottes présentes et fonctionnelles | B72: 0
A73: Etat et intégrité des tamis | B73: 0
A74: Températures de stockage au froid affichée mesurée et conforme | B74: NA | C74: =IF(B74=0, -5, "0") -> 0
A75: Température dans le laboratoire affichée mesurée et conforme | B75: NA | C75: =IF(B75=0, -5, "0") -> 0
A76: Etat et entretien des chambres froides et chambres de pousse | B76: NA | C76: =IF(B76=0, -5, "0") -> 0
A77: Etat global et fonctionnalité des équipements de travail | B77: 0
A78: Etat global et fonctionnalité des meubles froids | B78: 0
A79: Températures affichées et mesurée au niveaux des meubles d'exposition | B79: NA | C79: =IF(B79=0, -5, "0") -> 0
A80: Propreté et Etat des grilles d'aération | B80: 0
A81: Etat des températures des produits | B81: NA | C81: =IF(B81=0, -5, "0") -> 0
A82: Etat des meubles d'exposition des boulangeries | B82: 0
A83: Score partiel | D83: =SUM(B66:C82) -> 0
A84: Taux partiel de Etat | D84: =D83/(COUNT(B66:C82)*2) -> 0
A86: TRAITEUR
A87: Etat, revêtement et entretien des chambres froides /armoires et portières | B87: 0
A88: Etat et revêtement des locaux de travail | B88: 0
A89: Etat des éléments de stockage | B89: 0
A90: Etat du système d'éclairage au niveau de la réserve et des laboratoires | B90: 0
A91: Systèmes de ventilation et de climatisation/Propreté des évaporateurs | B91: 0
A92: Températures affichée et mesurée de stockage au froid conformes | B92: NA | C92: =IF(B92=0, -5, "0") -> 0
A93: Température dans le laboratoire | B93: NA | C93: =IF(B93=0, -5, "0") -> 0
A94: Meubles d'exposition conformes et fonctionnels | B94: 0
A95: Etat des plans de travail | B95: 0
A96: Etat des équipements de cuisson | B96: 0
A97: Hotte conforme et fonctionnelle | B97: 0
A98: Températures affichées et mesurée au niveau des meubles conformes | B98: NA | C98: =IF(B98=0, -5, "0") -> 0
A99: Etat des températures des produits | B99: NA | C99: =IF(B99=0, -5, "0") -> 0
A100: Etat global et fonctionnalité des équipements de travail | B100: 0
A101: Score partiel | D101: =SUM(B87:C100) -> 0
A102: Taux partiel de Etat | D102: =D101/(COUNT(B87:C100)*2) -> 0
A105: CHARCUTERIES ET FROMAGES
A106: Etat et revêtement et entretien des chambres froides /armoires et portières | B106: 0
A107: Conception et revêtement des locaux de travail | B107: 0
A108: Etat des éléments de stockage | B108: 0
A109: Etat du système d'éclairage au niveau de la réserve | B109: 0
A110: Systèmes de ventilation et de climatisation/Propreté des évaporateurs | B110: 0
A111: Températures affichée et mesurée de stockage au froid conformes | B111: NA | C111: =IF(B111=0, -5, "0") -> 0
...

Sheet A4 Exploitation
C1: 0
C2: 1
C3: 2
C4: NA
A7: Audit hygiène
A8: ='Page de garde'!D18 -> Merezgua
A9: Auditeur
A10: Audit mené en présence de
A11: Date de l'audit
A12: Note global exploitation | B12: =D505 -> 0
A14: Paramètres à auditer | B14: Cotation | D14: Observations | E14: Plan d'action | F14: Avancement
B15: 0/1/2 | C15: Sanction
A16: RECEPTION
A17: =B11
A18: EXTERIEUR ET AIRE DE RECEPTION
A19: Propreté de la zone de réception | B19: 0
A20: Propreté du monte-charges et alentours | B20: 0
A21: Propreté et rangement du quai | B21: 0
A22: Rangement palette et emballage | B22: 0
A23: Score partiel | D23: =SUM(B19:C22) -> 0
A24: Taux partiel de conformité | D24: =D23/(COUNT(B19:C22)*2) -> 0
A26: LES CONTROLES A LA RECEPTION
A27: Affichage du tableau des températures réglementaires | B27: 0
A28: Respect de la procédure de contrôle à la réception | B28: NA | C28: =IF(B28=0, -5, "0") -> 0
A29: Absence d'attente en réception des marchandises et prévention des croisements des flux (déchets, produits différents…) | B29: 0
A30: Présence, rangement et bon fonctionnement du thermomètre à sonde (avec son matériel de désinfection) et du thermomètre Infra-Rouge | B30: 0
A31: Réalisation et enregistrement de la vérification mensuelle du thermomètre | B31: 0
A32: Enregistrements des paramètres de contrôle à la réception (enregistrement des températures) Présence des documents sanitaires des denrées d'origine animale frais ou congelés (documents de transport, AMC, certificats de salubrité, étiquetage conforme) pour les 6 derniers mois | B32: 0
A33: Identification et isolement des produits non-conformes (des casses, retours et produits périmés) | B33: NA | C33: =IF(B33=0, -5, "0") -> 0
A34: Balance propre | B34: 0
A35: Respect de l'hygiène vestimentaires et corporelle | B35: 0
A36: Taux de réalisation du plan d'action précédent (2 si tout le PA est réalisé, 1 si le taux 100%>Tx>0%, et 0 si le taux est 0%- ne préciser que le taux dans la case commentaire) | B36: 0
A37: Score partiel | D37: =SUM(B27:C35) -> 0
A38: Taux partiel de conformité | D38: =D37/(COUNT(B27:C35)*2) -> 0
A40: Score partiel Réception | D40: =SUM(D37,D23) -> 0
A41: Note Réception | D41: =D40/(COUNT(B27:C35,B19:C22)*2) -> 0
A43: PATISSERIE, BOULANGERIE
A44: =B11
A45: STOCKAGE DES MP
A46: Propreté de la réserve | B46: 0
A47: Chambres / armoires froides propres et rangées (absence de risque de contamination croisée et de stockage au sol) | B47: 0
A48: Portes maintenues fermées | B48: 0
A49: Produits casse / retour consignés balisés et isolés. | B49: 0
A50: Produits identifiés et correctement protégés | B50: 0
A51: Respect des DLC/DLUO | B51: NA | C51: =IF(B51=0, -5, "0") -> 0
A52: Respect du FEFO (First Expired First Out) | B52: 0
A53: Surveillance et enregistrement des températures de stockage | B53: NA | C53: =IF(B53=0, -5, "0") -> 0
A54: Score partiel | D54: =SUM(B46:C53) -> 0
A55: Taux partiel de conformité | D55: =D54/(COUNT(B46:C53)*2) -> 0
A57: LABORATOIRE ET BOULANGERIE
A58: Absence d'attente à température ambiante | B58: 0
A59: Prévention de la contamination croisée | B59: 0
A60: Propreté des équipements et des locaux | B60: 0
A61: Propreté des outils de travail | B61: 0
A62: Respect des bonnes pratiques de décongélation | B62: NA | C62: =IF(B62=0, -5, "0") -> 0
A63: Séparation des traitements des œufs et fruits (temps et espace) | B63: 0
A64: Respect du protocole de décontamination des œufs et fruits (3 bacs, dosage…) | B64: NA | C64: =IF(B64=0, -5, "0") -> 0
A65: Enregistrement des décontaminations (œufs et fruits) | B65: 0
A66: Protection des produits semi-finis | B66: 0
A67: Identification et durée de vie des produits semi-finis | B67: 0
A68: Tamisage conforme | B68: 0
A69: Gestion des corps étrangers et enregistrement (scarificateur,…) | B69: 0
A70: Traçabilités des produits finis | B70: NA | C70: =IF(B70=0, -5, "0") -> 0
A71: Conformité du rangement des emballages | B71: 0
A72: Respect du protocole de refroidissement des crèmes | B72: 0
A73: Contrôle des poids des pains et enregistrements | B73: 0
A74: Présence, conformité et vérification du thermomètre | B74: 0
A75: Présence de laves mains accessible propres | B75: NA | C75: =IF(B75=0, -5, "0") -> 0
A76: Hygiène vestimentaire et comportementale | B76: NA | C76: =IF(B76=0, -5, "0") -> 0
A77: Hygiène corporelle et des mains | B77: 0
A78: Conformité et propreté de la plonge, des outils et des produits de nettoyage | B78: 0
A79: Enregistrement des autocontrôles: nettoyage | B79: 0
A80: Stockage des produits d'entretien et respect des protocoles et des plans de nettoyage et de désinfection | B80: 0
A81: Score partiel | D81: =SUM(B58:C80) -> 0
A82: Taux partiel de conformité | D82: =D81/(COUNT(B58:C80)*2) -> 0
A84: LINEAIRES
A85: Absence d'attente à température ambiante | B85: 0
A86: Propreté des meubles satisfaisante | B86: 0
A87: Respect des DLC | B87: NA | C87: =IF(B87=0, -5, "0") -> 0
A88: Respect des Dates Limites de retrait et rotation des stocks (FEFO) | B88: 0
A89: Surveillance et enregistrement des températures d'exposition | B89: 0
A90: étiquetage et identification des produits | B90: 0
A91: Respect des bonnes pratiques d'exposition (risque de contamination ) | B91: 0
A92: Taux de réalisation du plan d'action précédent (2 si tout le PA est réalisé, 1 si le taux 100%>Tx>0%, et 0 si le taux est 0%- ne préciser que le taux dans la case commentaire) | B92: 0
A93: Score partiel | D93: =SUM(B85:C91) -> 0
A94: Taux partiel de conformité | D94: =D93/(COUNT(B85:C91)*2) -> 0
A96: Score partiel Pâtisserie, boulangerie et viennoiserie | D96: =SUM(D81,D93,D54) -> 0
A97: Note Pâtisserie, boulangerie et viennoiserie | D97: =D96/(COUNT(B85:C91,B46:C53,B58:C80)*2) -> 0
A99: TRAITEUR
A100: =B11
A101: STOCKAGE DES MP
A102: Chambres / armoires froides propres et rangées | B102: 0
A103: Portes maintenues fermées | B103: 0
A104: Propreté des éléments de stockage | B104: 0
A105: Produits casse / retour consignés balisés et isolés. | B105: 0
A106: Aspect général, identification et protection des produits (MP et semi-fini) | B106: 0
A107: Respect des DLC | B107: NA | C107: =IF(B107=0, -5, "0") -> 0
A108: Respect du FEFO (First Expired First Out) et rotation des stocks | B108: 0
A109: Surveillance et enregistrement des températures de stockage | B109: NA | C109: =IF(B109=0, -5, "0") -> 0
A110: Score partiel | D110: =SUM(B102:C109) -> 0
...

Sheet A4 Technique
B1: 0
B2: 1
B3: 2
B4: NA
A6: Audit hygiène Magasin
A7: ='A1 Exploitation'!A8:F8 -> Merezgua
A8: Auditeur | B8: ='A4 Exploitation'!B9:F9
A9: Audit mené en présence de | B9: ='A4 Exploitation'!B10:F10
A10: Date de l'audit | B10: ='A4 Exploitation'!B11:F11
A11: Taux global de Etat-Technique | B11: =D198 -> 0
A13: Paramètres à auditer | B13: Cotation | D13: Observations | E13: Plan d'action proposé | F13: Avancement
B14: 0/1/2 | C14: Sanction
A16: RECEPTION
A17: Protection du quai de réception (étanchéité…) | B17: 0
A18: Balance fonctionnelle | B18: 0
A19: Etat des sols | B19: 0
A20: Etat des murs et plafonds | B20: 0
A21: Eclairage suffisant et protégé | B21: 0
A22: Score partiel | D22: =SUM(B17:C21) -> 0
A23: Taux partiel de Etat | D23: =D22/(COUNT(B17:C21)*2) -> 0
A25: FRUITS ET LEGUMES
A26: Entretien des chambres froides, portières et étagères | B26: NA | C26: =IF(B26=0, -5, "0") -> 0
A27: Températures de stockage adaptée | B27: 0
A28: Etat des meubles froids | B28: 0
A29: Etat des Evaporateurs | B29: 0
A30: Etat du présentoir | B30: 0
A31: Etat du système d'éclairage | B31: 0
A32: Score partiel | D32: =SUM(B26:C31) -> 0
A33: Taux partiel de Etat | D33: =D32/(COUNT(B26:C31)*2) -> 0
A35: OLIVES EPICES ET CONDIMENTS
A36: Entretien des chambres froides, portières et étagères | B36: NA | C36: =IF(B36=0, -5, "0") -> 0
A37: Températures de stockage adaptées | B37: 0
A38: Etat des éléments d'exposition | B38: 0
A39: Etat du présentoir | B39: 0
A40: Etat du système d'éclairage | B40: 0
A41: Score partiel | D41: =SUM(B36:C40) -> 0
A42: Taux partiel de Etat | D42: =D41/(COUNT(B36:C40)*2) -> 0
A44: PGC
A45: Etat et revêtement des locaux de stockage | B45: 0
A46: Etat des meubles de stockage | B46: 0
A47: Etat des meubles d'exposition | B47: 0
A48: Eclairage | B48: 0
A49: Hygrométrie dans la réserve | B49: 0
A50: Etat des sources d'aération | B50: NA | C50: =IF(B50=0, -5, "0") -> 0
A51: Score partiel | D51: =SUM(B45:C50) -> 0
A52: Taux partiel de Etat | D52: =D51/(COUNT(B45:C50)*2) -> 0
A54: PLS
A55: Entretien des chambres froides (matériel et revêtements) , portières et étagères | B55: NA | C55: =IF(B55=0, -5, "0") -> 0
A56: Evaporateurs propres | B56: 0
A57: Etat des meubles froids et neutres (caches, …) | B57: 0
A58: Absence de givre dans les meubles froids (-) | B58: 0
A59: Températures affichées et mesurées au niveaux des meubles (+-) | B59: NA | C59: =IF(B59=0, -5, "0") -> 0
A60: Etat des températures des produits | B60: NA | C60: =IF(B60=0, -5, "0") -> 0
A61: Etat du système d'éclairage | B61: 0
A62: Score partiel | D62: =SUM(B55:C61) -> 0
A63: Taux partiel de Etat | D63: =D62/(COUNT(B55:C61)*2) -> 0
A65: PATISSERIE, BOULANGERIE
A66: Etat et revêtement de la réserve et des éléments de stockage | B66: 0
A67: Etat et revêtement des locaux de travail | B67: 0
A68: Etat du système d'éclairage | B68: 0
A69: Systèmes de ventilation et de climatisation/Evaporateurs propres | B69: 0
A70: Hygrométrie dans la réserve | B70: 0
A71: Etat des éléments de stockage dans la réserve | B71: 0
A72: Hottes présentes et fonctionnelles | B72: 0
A73: Etat et intégrité des tamis | B73: 0
A74: Températures de stockage au froid affichée mesurée et conforme | B74: NA | C74: =IF(B74=0, -5, "0") -> 0
A75: Température dans le laboratoire affichée mesurée et conforme | B75: NA | C75: =IF(B75=0, -5, "0") -> 0
A76: Etat et entretien des chambres froides et chambres de pousse | B76: NA | C76: =IF(B76=0, -5, "0") -> 0
A77: Etat global et fonctionnalité des équipements de travail | B77: 0
A78: Etat global et fonctionnalité des meubles froids | B78: 0
A79: Températures affichées et mesurée au niveaux des meubles d'exposition | B79: NA | C79: =IF(B79=0, -5, "0") -> 0
A80: Propreté et Etat des grilles d'aération | B80: 0
A81: Etat des températures des produits | B81: NA | C81: =IF(B81=0, -5, "0") -> 0
A82: Etat des meubles d'exposition des boulangeries | B82: 0
A83: Score partiel | D83: =SUM(B66:C82) -> 0
A84: Taux partiel de Etat | D84: =D83/(COUNT(B66:C82)*2) -> 0
A86: TRAITEUR
A87: Etat, revêtement et entretien des chambres froides /armoires et portières | B87: 0
A88: Etat et revêtement des locaux de travail | B88: 0
A89: Etat des éléments de stockage | B89: 0
A90: Etat du système d'éclairage au niveau de la réserve et des laboratoires | B90: 0
A91: Systèmes de ventilation et de climatisation/Propreté des évaporateurs | B91: 0
A92: Températures affichée et mesurée de stockage au froid conformes | B92: NA | C92: =IF(B92=0, -5, "0") -> 0
A93: Température dans le laboratoire | B93: NA | C93: =IF(B93=0, -5, "0") -> 0
A94: Meubles d'exposition conformes et fonctionnels | B94: 0
A95: Etat des plans de travail | B95: 0
A96: Etat des équipements de cuisson | B96: 0
A97: Hotte conforme et fonctionnelle | B97: 0
A98: Températures affichées et mesurée au niveau des meubles conformes | B98: NA | C98: =IF(B98=0, -5, "0") -> 0
A99: Etat des températures des produits | B99: NA | C99: =IF(B99=0, -5, "0") -> 0
A100: Etat global et fonctionnalité des équipements de travail | B100: 0
A101: Score partiel | D101: =SUM(B87:C100) -> 0
A102: Taux partiel de Etat | D102: =D101/(COUNT(B87:C100)*2) -> 0
A105: CHARCUTERIES ET FROMAGES
A106: Etat et revêtement et entretien des chambres froides /armoires et portières | B106: 0
A107: Conception et revêtement des locaux de travail | B107: 0
A108: Etat des éléments de stockage | B108: 0
A109: Etat du système d'éclairage au niveau de la réserve | B109: 0
A110: Systèmes de ventilation et de climatisation/Propreté des évaporateurs | B110: 0
A111: Températures affichée et mesurée de stockage au froid conformes | B111: NA | C111: =IF(B111=0, -5, "0") -> 0
...

Sheet A5 Exploitation
C1: 0
C2: 1
C3: 2
C4: NA
A7: Audit hygiène
A8: ='Page de garde'!D18 -> Merezgua
A9: Auditeur
A10: Audit mené en présence de
A11: Date de l'audit
A12: Note global exploitation | B12: =D505 -> 0
A14: Paramètres à auditer | B14: Cotation | D14: Observations | E14: Plan d'action | F14: Avancement
B15: 0/1/2 | C15: Sanction
A16: RECEPTION
A17: =B11
A18: EXTERIEUR ET AIRE DE RECEPTION
A19: Propreté de la zone de réception | B19: 0
A20: Propreté du monte-charges et alentours | B20: 0
A21: Propreté et rangement du quai | B21: 0
A22: Rangement palette et emballage | B22: 0
A23: Score partiel | D23: =SUM(B19:C22) -> 0
A24: Taux partiel de conformité | D24: =D23/(COUNT(B19:C22)*2) -> 0
A26: LES CONTROLES A LA RECEPTION
A27: Affichage du tableau des températures réglementaires | B27: 0
A28: Respect de la procédure de contrôle à la réception | B28: NA | C28: =IF(B28=0, -5, "0") -> 0
A29: Absence d'attente en réception des marchandises et prévention des croisements des flux (déchets, produits différents…) | B29: 0
A30: Présence, rangement et bon fonctionnement du thermomètre à sonde (avec son matériel de désinfection) et du thermomètre Infra-Rouge | B30: 0
A31: Réalisation et enregistrement de la vérification mensuelle du thermomètre | B31: 0
A32: Enregistrements des paramètres de contrôle à la réception (enregistrement des températures) Présence des documents sanitaires des denrées d'origine animale frais ou congelés (documents de transport, AMC, certificats de salubrité, étiquetage conforme) pour les 6 derniers mois | B32: 0
A33: Identification et isolement des produits non-conformes (des casses, retours et produits périmés) | B33: NA | C33: =IF(B33=0, -5, "0") -> 0
A34: Balance propre | B34: 0
A35: Respect de l'hygiène vestimentaires et corporelle | B35: 0
A36: Taux de réalisation du plan d'action précédent (2 si tout le PA est réalisé, 1 si le taux 100%>Tx>0%, et 0 si le taux est 0%- ne préciser que le taux dans la case commentaire) | B36: 0
A37: Score partiel | D37: =SUM(B27:C35) -> 0
A38: Taux partiel de conformité | D38: =D37/(COUNT(B27:C35)*2) -> 0
A40: Score partiel Réception | D40: =SUM(D37,D23) -> 0
A41: Note Réception | D41: =D40/(COUNT(B27:C35,B19:C22)*2) -> 0
A43: PATISSERIE, BOULANGERIE
A44: =B11
A45: STOCKAGE DES MP
A46: Propreté de la réserve | B46: 0
A47: Chambres / armoires froides propres et rangées (absence de risque de contamination croisée et de stockage au sol) | B47: 0
A48: Portes maintenues fermées | B48: 0
A49: Produits casse / retour consignés balisés et isolés. | B49: 0
A50: Produits identifiés et correctement protégés | B50: 0
A51: Respect des DLC/DLUO | B51: NA | C51: =IF(B51=0, -5, "0") -> 0
A52: Respect du FEFO (First Expired First Out) | B52: 0
A53: Surveillance et enregistrement des températures de stockage | B53: NA | C53: =IF(B53=0, -5, "0") -> 0
A54: Score partiel | D54: =SUM(B46:C53) -> 0
A55: Taux partiel de conformité | D55: =D54/(COUNT(B46:C53)*2) -> 0
A57: LABORATOIRE ET BOULANGERIE
A58: Absence d'attente à température ambiante | B58: 0
A59: Prévention de la contamination croisée | B59: 0
A60: Propreté des équipements et des locaux | B60: 0
A61: Propreté des outils de travail | B61: 0
A62: Respect des bonnes pratiques de décongélation | B62: NA | C62: =IF(B62=0, -5, "0") -> 0
A63: Séparation des traitements des œufs et fruits (temps et espace) | B63: 0
A64: Respect du protocole de décontamination des œufs et fruits (3 bacs, dosage…) | B64: NA | C64: =IF(B64=0, -5, "0") -> 0
A65: Enregistrement des décontaminations (œufs et fruits) | B65: 0
A66: Protection des produits semi-finis | B66: 0
A67: Identification et durée de vie des produits semi-finis | B67: 0
A68: Tamisage conforme | B68: 0
A69: Gestion des corps étrangers et enregistrement (scarificateur,…) | B69: 0
A70: Traçabilités des produits finis | B70: NA | C70: =IF(B70=0, -5, "0") -> 0
A71: Conformité du rangement des emballages | B71: 0
A72: Respect du protocole de refroidissement des crèmes | B72: 0
A73: Contrôle des poids des pains et enregistrements | B73: 0
A74: Présence, conformité et vérification du thermomètre | B74: 0
A75: Présence de laves mains accessible propres | B75: NA | C75: =IF(B75=0, -5, "0") -> 0
A76: Hygiène vestimentaire et comportementale | B76: NA | C76: =IF(B76=0, -5, "0") -> 0
A77: Hygiène corporelle et des mains | B77: 0
A78: Conformité et propreté de la plonge, des outils et des produits de nettoyage | B78: 0
A79: Enregistrement des autocontrôles: nettoyage | B79: 0
A80: Stockage des produits d'entretien et respect des protocoles et des plans de nettoyage et de désinfection | B80: 0
A81: Score partiel | D81: =SUM(B58:C80) -> 0
A82: Taux partiel de conformité | D82: =D81/(COUNT(B58:C80)*2) -> 0
A84: LINEAIRES
A85: Absence d'attente à température ambiante | B85: 0
A86: Propreté des meubles satisfaisante | B86: 0
A87: Respect des DLC | B87: NA | C87: =IF(B87=0, -5, "0") -> 0
A88: Respect des Dates Limites de retrait et rotation des stocks (FEFO) | B88: 0
A89: Surveillance et enregistrement des températures d'exposition | B89: 0
A90: étiquetage et identification des produits | B90: 0
A91: Respect des bonnes pratiques d'exposition (risque de contamination ) | B91: 0
A92: Taux de réalisation du plan d'action précédent (2 si tout le PA est réalisé, 1 si le taux 100%>Tx>0%, et 0 si le taux est 0%- ne préciser que le taux dans la case commentaire) | B92: 0
A93: Score partiel | D93: =SUM(B85:C91) -> 0
A94: Taux partiel de conformité | D94: =D93/(COUNT(B85:C91)*2) -> 0
A96: Score partiel Pâtisserie, boulangerie et viennoiserie | D96: =SUM(D81,D93,D54) -> 0
A97: Note Pâtisserie, boulangerie et viennoiserie | D97: =D96/(COUNT(B85:C91,B46:C53,B58:C80)*2) -> 0
A99: TRAITEUR
A100: =B11
A101: STOCKAGE DES MP
A102: Chambres / armoires froides propres et rangées | B102: 0
A103: Portes maintenues fermées | B103: 0
A104: Propreté des éléments de stockage | B104: 0
A105: Produits casse / retour consignés balisés et isolés. | B105: 0
A106: Aspect général, identification et protection des produits (MP et semi-fini) | B106: 0
A107: Respect des DLC | B107: NA | C107: =IF(B107=0, -5, "0") -> 0
A108: Respect du FEFO (First Expired First Out) et rotation des stocks | B108: 0
A109: Surveillance et enregistrement des températures de stockage | B109: NA | C109: =IF(B109=0, -5, "0") -> 0
A110: Score partiel | D110: =SUM(B102:C109) -> 0
...

Sheet A5 Technique
B1: 0
B2: 1
B3: 2
B4: NA
A6: Audit hygiène Magasin
A7: ='A1 Exploitation'!A8:F8 -> Merezgua
A8: Auditeur | B8: ='A5 Exploitation'!B9:F9
A9: Audit mené en présence de | B9: ='A5 Exploitation'!B10:F10
A10: Date de l'audit | B10: ='A5 Exploitation'!B11:F11
A11: Taux global de Etat-Technique | B11: =D198 -> 0
A13: Paramètres à auditer | B13: Cotation | D13: Observations | E13: Plan d'action proposé | F13: Avancement
B14: 0/1/2 | C14: Sanction
A16: RECEPTION
A17: Protection du quai de réception (étanchéité…) | B17: 0
A18: Balance fonctionnelle | B18: 0
A19: Etat des sols | B19: 0
A20: Etat des murs et plafonds | B20: 0
A21: Eclairage suffisant et protégé | B21: 0
A22: Score partiel | D22: =SUM(B17:C21) -> 0
A23: Taux partiel de Etat | D23: =D22/(COUNT(B17:C21)*2) -> 0
A25: FRUITS ET LEGUMES
A26: Entretien des chambres froides, portières et étagères | B26: NA | C26: =IF(B26=0, -5, "0") -> 0
A27: Températures de stockage adaptée | B27: 0
A28: Etat des meubles froids | B28: 0
A29: Etat des Evaporateurs | B29: 0
A30: Etat du présentoir | B30: 0
A31: Etat du système d'éclairage | B31: 0
A32: Score partiel | D32: =SUM(B26:C31) -> 0
A33: Taux partiel de Etat | D33: =D32/(COUNT(B26:C31)*2) -> 0
A35: OLIVES EPICES ET CONDIMENTS
A36: Entretien des chambres froides, portières et étagères | B36: NA | C36: =IF(B36=0, -5, "0") -> 0
A37: Températures de stockage adaptées | B37: 0
A38: Etat des éléments d'exposition | B38: 0
A39: Etat du présentoir | B39: 0
A40: Etat du système d'éclairage | B40: 0
A41: Score partiel | D41: =SUM(B36:C40) -> 0
A42: Taux partiel de Etat | D42: =D41/(COUNT(B36:C40)*2) -> 0
A44: PGC
A45: Etat et revêtement des locaux de stockage | B45: 0
A46: Etat des meubles de stockage | B46: 0
A47: Etat des meubles d'exposition | B47: 0
A48: Eclairage | B48: 0
A49: Hygrométrie dans la réserve | B49: 0
A50: Etat des sources d'aération | B50: NA | C50: =IF(B50=0, -5, "0") -> 0
A51: Score partiel | D51: =SUM(B45:C50) -> 0
A52: Taux partiel de Etat | D52: =D51/(COUNT(B45:C50)*2) -> 0
A54: PLS
A55: Entretien des chambres froides (matériel et revêtements) , portières et étagères | B55: NA | C55: =IF(B55=0, -5, "0") -> 0
A56: Evaporateurs propres | B56: 0
A57: Etat des meubles froids et neutres (caches, …) | B57: 0
A58: Absence de givre dans les meubles froids (-) | B58: 0
A59: Températures affichées et mesurées au niveaux des meubles (+-) | B59: NA | C59: =IF(B59=0, -5, "0") -> 0
A60: Etat des températures des produits | B60: NA | C60: =IF(B60=0, -5, "0") -> 0
A61: Etat du système d'éclairage | B61: 0
A62: Score partiel | D62: =SUM(B55:C61) -> 0
A63: Taux partiel de Etat | D63: =D62/(COUNT(B55:C61)*2) -> 0
A65: PATISSERIE, BOULANGERIE
A66: Etat et revêtement de la réserve et des éléments de stockage | B66: 0
A67: Etat et revêtement des locaux de travail | B67: 0
A68: Etat du système d'éclairage | B68: 0
A69: Systèmes de ventilation et de climatisation/Evaporateurs propres | B69: 0
A70: Hygrométrie dans la réserve | B70: 0
A71: Etat des éléments de stockage dans la réserve | B71: 0
A72: Hottes présentes et fonctionnelles | B72: 0
A73: Etat et intégrité des tamis | B73: 0
A74: Températures de stockage au froid affichée mesurée et conforme | B74: NA | C74: =IF(B74=0, -5, "0") -> 0
A75: Température dans le laboratoire affichée mesurée et conforme | B75: NA | C75: =IF(B75=0, -5, "0") -> 0
A76: Etat et entretien des chambres froides et chambres de pousse | B76: NA | C76: =IF(B76=0, -5, "0") -> 0
A77: Etat global et fonctionnalité des équipements de travail | B77: 0
A78: Etat global et fonctionnalité des meubles froids | B78: 0
A79: Températures affichées et mesurée au niveaux des meubles d'exposition | B79: NA | C79: =IF(B79=0, -5, "0") -> 0
A80: Propreté et Etat des grilles d'aération | B80: 0
A81: Etat des températures des produits | B81: NA | C81: =IF(B81=0, -5, "0") -> 0
A82: Etat des meubles d'exposition des boulangeries | B82: 0
A83: Score partiel | D83: =SUM(B66:C82) -> 0
A84: Taux partiel de Etat | D84: =D83/(COUNT(B66:C82)*2) -> 0
A86: TRAITEUR
A87: Etat, revêtement et entretien des chambres froides /armoires et portières | B87: 0
A88: Etat et revêtement des locaux de travail | B88: 0
A89: Etat des éléments de stockage | B89: 0
A90: Etat du système d'éclairage au niveau de la réserve et des laboratoires | B90: 0
A91: Systèmes de ventilation et de climatisation/Propreté des évaporateurs | B91: 0
A92: Températures affichée et mesurée de stockage au froid conformes | B92: NA | C92: =IF(B92=0, -5, "0") -> 0
A93: Température dans le laboratoire | B93: NA | C93: =IF(B93=0, -5, "0") -> 0
A94: Meubles d'exposition conformes et fonctionnels | B94: 0
A95: Etat des plans de travail | B95: 0
A96: Etat des équipements de cuisson | B96: 0
A97: Hotte conforme et fonctionnelle | B97: 0
A98: Températures affichées et mesurée au niveau des meubles conformes | B98: NA | C98: =IF(B98=0, -5, "0") -> 0
A99: Etat des températures des produits | B99: NA | C99: =IF(B99=0, -5, "0") -> 0
A100: Etat global et fonctionnalité des équipements de travail | B100: 0
A101: Score partiel | D101: =SUM(B87:C100) -> 0
A102: Taux partiel de Etat | D102: =D101/(COUNT(B87:C100)*2) -> 0
A105: CHARCUTERIES ET FROMAGES
A106: Etat et revêtement et entretien des chambres froides /armoires et portières | B106: 0
A107: Conception et revêtement des locaux de travail | B107: 0
A108: Etat des éléments de stockage | B108: 0
A109: Etat du système d'éclairage au niveau de la réserve | B109: 0
A110: Systèmes de ventilation et de climatisation/Propreté des évaporateurs | B110: 0
A111: Températures affichée et mesurée de stockage au froid conformes | B111: NA | C111: =IF(B111=0, -5, "0") -> 0
...

Sheet A6 Exploitation
C1: 0
C2: 1
C3: 2
C4: NA
A7: Audit hygiène
A8: ='Page de garde'!D18 -> Merezgua
A9: Auditeur
A10: Audit mené en présence de
A11: Date de l'audit
A12: Note global exploitation | B12: =D505 -> 0
A14: Paramètres à auditer | B14: Cotation | D14: Observations | E14: Plan d'action | F14: Avancement
B15: 0/1/2 | C15: Sanction
A16: RECEPTION
A17: =B11
A18: EXTERIEUR ET AIRE DE RECEPTION
A19: Propreté de la zone de réception | B19: 0
A20: Propreté du monte-charges et alentours | B20: 0
A21: Propreté et rangement du quai | B21: 0
A22: Rangement palette et emballage | B22: 0
A23: Score partiel | D23: =SUM(B19:C22) -> 0
A24: Taux partiel de conformité | D24: =D23/(COUNT(B19:C22)*2) -> 0
A26: LES CONTROLES A LA RECEPTION
A27: Affichage du tableau des températures réglementaires | B27: 0
A28: Respect de la procédure de contrôle à la réception | B28: NA | C28: =IF(B28=0, -5, "0") -> 0
A29: Absence d'attente en réception des marchandises et prévention des croisements des flux (déchets, produits différents…) | B29: 0
A30: Présence, rangement et bon fonctionnement du thermomètre à sonde (avec son matériel de désinfection) et du thermomètre Infra-Rouge | B30: 0
A31: Réalisation et enregistrement de la vérification mensuelle du thermomètre | B31: 0
A32: Enregistrements des paramètres de contrôle à la réception (enregistrement des températures) Présence des documents sanitaires des denrées d'origine animale frais ou congelés (documents de transport, AMC, certificats de salubrité, étiquetage conforme) pour les 6 derniers mois | B32: 0
A33: Identification et isolement des produits non-conformes (des casses, retours et produits périmés) | B33: NA | C33: =IF(B33=0, -5, "0") -> 0
A34: Balance propre | B34: 0
A35: Respect de l'hygiène vestimentaires et corporelle | B35: 0
A36: Taux de réalisation du plan d'action précédent (2 si tout le PA est réalisé, 1 si le taux 100%>Tx>0%, et 0 si le taux est 0%- ne préciser que le taux dans la case commentaire) | B36: 0
A37: Score partiel | D37: =SUM(B27:C35) -> 0
A38: Taux partiel de conformité | D38: =D37/(COUNT(B27:C35)*2) -> 0
A40: Score partiel Réception | D40: =SUM(D37,D23) -> 0
A41: Note Réception | D41: =D40/(COUNT(B27:C35,B19:C22)*2) -> 0
A43: PATISSERIE, BOULANGERIE
A44: =B11
A45: STOCKAGE DES MP
A46: Propreté de la réserve | B46: 0
A47: Chambres / armoires froides propres et rangées (absence de risque de contamination croisée et de stockage au sol) | B47: 0
A48: Portes maintenues fermées | B48: 0
A49: Produits casse / retour consignés balisés et isolés. | B49: 0
A50: Produits identifiés et correctement protégés | B50: 0
A51: Respect des DLC/DLUO | B51: NA | C51: =IF(B51=0, -5, "0") -> 0
A52: Respect du FEFO (First Expired First Out) | B52: 0
A53: Surveillance et enregistrement des températures de stockage | B53: NA | C53: =IF(B53=0, -5, "0") -> 0
A54: Score partiel | D54: =SUM(B46:C53) -> 0
A55: Taux partiel de conformité | D55: =D54/(COUNT(B46:C53)*2) -> 0
A57: LABORATOIRE ET BOULANGERIE
A58: Absence d'attente à température ambiante | B58: 0
A59: Prévention de la contamination croisée | B59: 0
A60: Propreté des équipements et des locaux | B60: 0
A61: Propreté des outils de travail | B61: 0
A62: Respect des bonnes pratiques de décongélation | B62: NA | C62: =IF(B62=0, -5, "0") -> 0
A63: Séparation des traitements des œufs et fruits (temps et espace) | B63: 0
A64: Respect du protocole de décontamination des œufs et fruits (3 bacs, dosage…) | B64: NA | C64: =IF(B64=0, -5, "0") -> 0
A65: Enregistrement des décontaminations (œufs et fruits) | B65: 0
A66: Protection des produits semi-finis | B66: 0
A67: Identification et durée de vie des produits semi-finis | B67: 0
A68: Tamisage conforme | B68: 0
A69: Gestion des corps étrangers et enregistrement (scarificateur,…) | B69: 0
A70: Traçabilités des produits finis | B70: NA | C70: =IF(B70=0, -5, "0") -> 0
A71: Conformité du rangement des emballages | B71: 0
A72: Respect du protocole de refroidissement des crèmes | B72: 0
A73: Contrôle des poids des pains et enregistrements | B73: 0
A74: Présence, conformité et vérification du thermomètre | B74: 0
A75: Présence de laves mains accessible propres | B75: NA | C75: =IF(B75=0, -5, "0") -> 0
A76: Hygiène vestimentaire et comportementale | B76: NA | C76: =IF(B76=0, -5, "0") -> 0
A77: Hygiène corporelle et des mains | B77: 0
A78: Conformité et propreté de la plonge, des outils et des produits de nettoyage | B78: 0
A79: Enregistrement des autocontrôles: nettoyage | B79: 0
A80: Stockage des produits d'entretien et respect des protocoles et des plans de nettoyage et de désinfection | B80: 0
A81: Score partiel | D81: =SUM(B58:C80) -> 0
A82: Taux partiel de conformité | D82: =D81/(COUNT(B58:C80)*2) -> 0
A84: LINEAIRES
A85: Absence d'attente à température ambiante | B85: 0
A86: Propreté des meubles satisfaisante | B86: 0
A87: Respect des DLC | B87: NA | C87: =IF(B87=0, -5, "0") -> 0
A88: Respect des Dates Limites de retrait et rotation des stocks (FEFO) | B88: 0
A89: Surveillance et enregistrement des températures d'exposition | B89: 0
A90: étiquetage et identification des produits | B90: 0
A91: Respect des bonnes pratiques d'exposition (risque de contamination ) | B91: 0
A92: Taux de réalisation du plan d'action précédent (2 si tout le PA est réalisé, 1 si le taux 100%>Tx>0%, et 0 si le taux est 0%- ne préciser que le taux dans la case commentaire) | B92: 0
A93: Score partiel | D93: =SUM(B85:C91) -> 0
A94: Taux partiel de conformité | D94: =D93/(COUNT(B85:C91)*2) -> 0
A96: Score partiel Pâtisserie, boulangerie et viennoiserie | D96: =SUM(D81,D93,D54) -> 0
A97: Note Pâtisserie, boulangerie et viennoiserie | D97: =D96/(COUNT(B85:C91,B46:C53,B58:C80)*2) -> 0
A99: TRAITEUR
A100: =B11
A101: STOCKAGE DES MP
A102: Chambres / armoires froides propres et rangées | B102: 0
A103: Portes maintenues fermées | B103: 0
A104: Propreté des éléments de stockage | B104: 0
A105: Produits casse / retour consignés balisés et isolés. | B105: 0
A106: Aspect général, identification et protection des produits (MP et semi-fini) | B106: 0
A107: Respect des DLC | B107: NA | C107: =IF(B107=0, -5, "0") -> 0
A108: Respect du FEFO (First Expired First Out) et rotation des stocks | B108: 0
A109: Surveillance et enregistrement des températures de stockage | B109: NA | C109: =IF(B109=0, -5, "0") -> 0
A110: Score partiel | D110: =SUM(B102:C109) -> 0
...

Sheet A6 Technique
B1: 0
B2: 1
B3: 2
B4: NA
A6: Audit hygiène Magasin
A7: ='A1 Exploitation'!A8:F8 -> Merezgua
A8: Auditeur | B8: ='A6 Exploitation'!B9:F9
A9: Audit mené en présence de | B9: ='A6 Exploitation'!B10:F10
A10: Date de l'audit | B10: ='A6 Exploitation'!B11:F11
A11: Taux global de Etat-Technique | B11: =D198 -> 0
A13: Paramètres à auditer | B13: Cotation | D13: Observations | E13: Plan d'action proposé | F13: Avancement
B14: 0/1/2 | C14: Sanction
A16: RECEPTION
A17: Protection du quai de réception (étanchéité…) | B17: 0
A18: Balance fonctionnelle | B18: 0
A19: Etat des sols | B19: 0
A20: Etat des murs et plafonds | B20: 0
A21: Eclairage suffisant et protégé | B21: 0
A22: Score partiel | D22: =SUM(B17:C21) -> 0
A23: Taux partiel de Etat | D23: =D22/(COUNT(B17:C21)*2) -> 0
A25: FRUITS ET LEGUMES
A26: Entretien des chambres froides, portières et étagères | B26: NA | C26: =IF(B26=0, -5, "0") -> 0
A27: Températures de stockage adaptée | B27: 0
A28: Etat des meubles froids | B28: 0
A29: Etat des Evaporateurs | B29: 0
A30: Etat du présentoir | B30: 0
A31: Etat du système d'éclairage | B31: 0
A32: Score partiel | D32: =SUM(B26:C31) -> 0
A33: Taux partiel de Etat | D33: =D32/(COUNT(B26:C31)*2) -> 0
A35: OLIVES EPICES ET CONDIMENTS
A36: Entretien des chambres froides, portières et étagères | B36: NA | C36: =IF(B36=0, -5, "0") -> 0
A37: Températures de stockage adaptées | B37: 0
A38: Etat des éléments d'exposition | B38: 0
A39: Etat du présentoir | B39: 0
A40: Etat du système d'éclairage | B40: 0
A41: Score partiel | D41: =SUM(B36:C40) -> 0
A42: Taux partiel de Etat | D42: =D41/(COUNT(B36:C40)*2) -> 0
A44: PGC
A45: Etat et revêtement des locaux de stockage | B45: 0
A46: Etat des meubles de stockage | B46: 0
A47: Etat des meubles d'exposition | B47: 0
A48: Eclairage | B48: 0
A49: Hygrométrie dans la réserve | B49: 0
A50: Etat des sources d'aération | B50: NA | C50: =IF(B50=0, -5, "0") -> 0
A51: Score partiel | D51: =SUM(B45:C50) -> 0
A52: Taux partiel de Etat | D52: =D51/(COUNT(B45:C50)*2) -> 0
A54: PLS
A55: Entretien des chambres froides (matériel et revêtements) , portières et étagères | B55: NA | C55: =IF(B55=0, -5, "0") -> 0
A56: Evaporateurs propres | B56: 0
A57: Etat des meubles froids et neutres (caches, …) | B57: 0
A58: Absence de givre dans les meubles froids (-) | B58: 0
A59: Températures affichées et mesurées au niveaux des meubles (+-) | B59: NA | C59: =IF(B59=0, -5, "0") -> 0
A60: Etat des températures des produits | B60: NA | C60: =IF(B60=0, -5, "0") -> 0
A61: Etat du système d'éclairage | B61: 0
A62: Score partiel | D62: =SUM(B55:C61) -> 0
A63: Taux partiel de Etat | D63: =D62/(COUNT(B55:C61)*2) -> 0
A65: PATISSERIE, BOULANGERIE
A66: Etat et revêtement de la réserve et des éléments de stockage | B66: 0
A67: Etat et revêtement des locaux de travail | B67: 0
A68: Etat du système d'éclairage | B68: 0
A69: Systèmes de ventilation et de climatisation/Evaporateurs propres | B69: 0
A70: Hygrométrie dans la réserve | B70: 0
A71: Etat des éléments de stockage dans la réserve | B71: 0
A72: Hottes présentes et fonctionnelles | B72: 0
A73: Etat et intégrité des tamis | B73: 0
A74: Températures de stockage au froid affichée mesurée et conforme | B74: NA | C74: =IF(B74=0, -5, "0") -> 0
A75: Température dans le laboratoire affichée mesurée et conforme | B75: NA | C75: =IF(B75=0, -5, "0") -> 0
A76: Etat et entretien des chambres froides et chambres de pousse | B76: NA | C76: =IF(B76=0, -5, "0") -> 0
A77: Etat global et fonctionnalité des équipements de travail | B77: 0
A78: Etat global et fonctionnalité des meubles froids | B78: 0
A79: Températures affichées et mesurée au niveaux des meubles d'exposition | B79: NA | C79: =IF(B79=0, -5, "0") -> 0
A80: Propreté et Etat des grilles d'aération | B80: 0
A81: Etat des températures des produits | B81: NA | C81: =IF(B81=0, -5, "0") -> 0
A82: Etat des meubles d'exposition des boulangeries | B82: 0
A83: Score partiel | D83: =SUM(B66:C82) -> 0
A84: Taux partiel de Etat | D84: =D83/(COUNT(B66:C82)*2) -> 0
A86: TRAITEUR
A87: Etat, revêtement et entretien des chambres froides /armoires et portières | B87: 0
A88: Etat et revêtement des locaux de travail | B88: 0
A89: Etat des éléments de stockage | B89: 0
A90: Etat du système d'éclairage au niveau de la réserve et des laboratoires | B90: 0
A91: Systèmes de ventilation et de climatisation/Propreté des évaporateurs | B91: 0
A92: Températures affichée et mesurée de stockage au froid conformes | B92: NA | C92: =IF(B92=0, -5, "0") -> 0
A93: Température dans le laboratoire | B93: NA | C93: =IF(B93=0, -5, "0") -> 0
A94: Meubles d'exposition conformes et fonctionnels | B94: 0
A95: Etat des plans de travail | B95: 0
A96: Etat des équipements de cuisson | B96: 0
A97: Hotte conforme et fonctionnelle | B97: 0
A98: Températures affichées et mesurée au niveau des meubles conformes | B98: NA | C98: =IF(B98=0, -5, "0") -> 0
A99: Etat des températures des produits | B99: NA | C99: =IF(B99=0, -5, "0") -> 0
A100: Etat global et fonctionnalité des équipements de travail | B100: 0
A101: Score partiel | D101: =SUM(B87:C100) -> 0
A102: Taux partiel de Etat | D102: =D101/(COUNT(B87:C100)*2) -> 0
A105: CHARCUTERIES ET FROMAGES
A106: Etat et revêtement et entretien des chambres froides /armoires et portières | B106: 0
A107: Conception et revêtement des locaux de travail | B107: 0
A108: Etat des éléments de stockage | B108: 0
A109: Etat du système d'éclairage au niveau de la réserve | B109: 0
A110: Systèmes de ventilation et de climatisation/Propreté des évaporateurs | B110: 0
A111: Températures affichée et mesurée de stockage au froid conformes | B111: NA | C111: =IF(B111=0, -5, "0") -> 0
...
