Workbook
Name Liste: 'A1 Exploitation'!$C$1:$C$4
Name AA: 'A1 Exploitation'!$BWJ$1

Sheet Page de garde
A18: Magasin Carrefour Market | D18: Merezgua
A21: Evolution des scores par audit
A23: Audit N° | B23: Note globale magasin | J23: =D18 -> Merezgua
A24: A1 | B24: =AVERAGE('A1 Exploitation'!D505,'A1 Technique'!D198) -> 0.91180569
A25: A2 | B25: =AVERAGE('A2 Exploitation'!D506,'A2 Technique'!D198) -> 0
A26: A3 | B26: =AVERAGE('A3 Exploitation'!D506,'A3 Technique'!D198) -> 0
A27: A4 | B27: =AVERAGE('A4 Exploitation'!D506,'A4 Technique'!D198) -> 0
A28: A5 | B28: =AVERAGE('A5 Exploitation'!D506,'A5 Technique'!D198) -> 0
A29: A6 | B29: =AVERAGE('A6 Exploitation'!D506,'A6 Technique'!D198) -> 0
A33: Audit N° | B33: Note-Exploitation | J33: =D18 -> Merezgua
A34: A1 | B34: ='A1 Exploitation'!D505 -> 0.89568345
A35: A2 | B35: ='A2 Exploitation'!D506
A36: A3 | B36: ='A3 Exploitation'!D506
A37: A4 | B37: ='A4 Exploitation'!D506
A38: A5 | B38: ='A5 Exploitation'!D506
A39: A6 | B39: ='A6 Exploitation'!D506
A42: Audit N° | B42: Taux global de réalisation du plan d'action | J42: =D18 -> Merezgua
A43: A1 | B43: =AVERAGE('A1 Exploitation'!D503, 'A1 Technique'!D196) -> 0.6703375
A44: A2 | B44: =AVERAGE('A2 Exploitation'!D504, 'A2 Technique'!D196) -> 0
A45: A3 | B45: =AVERAGE('A3 Exploitation'!D504, 'A3 Technique'!D196) -> 0
A46: A4 | B46: =AVERAGE('A4 Exploitation'!D504, 'A4 Technique'!D196) -> 0
A47: A5 | B47: =AVERAGE('A5 Exploitation'!D504, 'A5 Technique'!D196) -> 0
A48: A6 | B48: =AVERAGE('A6 Exploitation'!D504, 'A6 Technique'!D196) -> 0
A51: Audit N° | B51: Note-Réception | J51: =D18 -> Merezgua
A52: A1 | B52: ='A1 Exploitation'!D41 -> 0.60714286
A53: A2 | B53: ='A2 Exploitation'!D41 -> 0
A54: A3 | B54: ='A3 Exploitation'!D41 -> 0
A55: A4 | B55: ='A4 Exploitation'!D41 -> 0
A56: A5 | B56: ='A5 Exploitation'!D41 -> 0
A57: A6 | B57: ='A6 Exploitation'!D41 -> 0
A60: Audit N° | B60: Note-BoulPât | J60: =D18 -> Merezgua
A61: A1 | B61: ='A1 Exploitation'!D97 -> 0.92857143
A62: A2 | B62: ='A2 Exploitation'!D97 -> 0
A63: A3 | B63: ='A3 Exploitation'!D97 -> 0
A64: A4 | B64: ='A4 Exploitation'!D97 -> 0
A65: A5 | B65: ='A5 Exploitation'!D97 -> 0
A66: A6 | B66: ='A6 Exploitation'!D97 -> 0
A69: Audit N° | B69: Note-Traiteur | J69: =D18 -> Merezgua
A70: A1 | B70: ='A1 Exploitation'!D150 -> 0.88571429
A71: A2 | B71: ='A2 Exploitation'!D150 -> 0
...

Sheet A1 Exploitation
C1: 0
C2: 1
C3: 2
C4: NA
A7: Audit hygiène
A8: ='Page de garde'!D18 -> Merezgua
A9: Auditeur | B9: Dr Hend KAMOUN
A10: Audit mené en présence de | B10: Directeur du magasin et chefs de rayons
A11: Date de l'audit | B11: 42774
A12: Note global exploitation | B12: =D505 -> 0.89568345
A14: Paramètres à auditer | B14: Cotation | D14: Observations | E14: Plan d'action | F14: Avancement
B15: 0/1/2 | C15: Sanction
A16: RECEPTION
A17: =B11 -> 42774
A18: EXTERIEUR ET AIRE DE RECEPTION
A19: Propreté de la zone de réception | B19: 2
A20: Propreté du monte-charges et alentours | B20: 2
A21: Propreté et rangement du quai | B21: 2
A22: Rangement palette et emballage | B22: 2
A23: Score partiel | D23: =SUM(B19:C22) -> 8
A24: Taux partiel de conformité | D24: =D23/(COUNT(B19:C22)*2) -> 1
A26: LES CONTROLES A LA RECEPTION
A27: Affichage du tableau des températures réglementaires | B27: 2
A28: Respect de la procédure de contrôle à la réception | B28: 0 | C28: =IF(B28=0, -5, "0") -> -5 | D28: Les températures enregistrées pour l’acceptation des produits surgelés sont non conformes (> -18°C) ex: produits de la mer surgelés, Les températures enregistrées pour l’acceptation des produits réfrigérés sont négatives (ex: volailles, yaourt)
A29: Absence d'attente en réception des marchandises et prévention des croisements des flux (déchets, produits différents…) | B29: 2
A30: Présence, rangement et bon fonctionnement du thermomètre à sonde (avec son matériel de désinfection) et du thermomètre Infra-Rouge | B30: 2
A31: Réalisation et enregistrement de la vérification mensuelle du thermomètre | B31: 2
A32: Enregistrements des paramètres de contrôle à la réception (enregistrement des températures) Présence des documents sanitaires des denrées d'origine animale frais ou congelés (documents de transport, AMC, certificats de salubrité, étiquetage conforme) pour les 6 derniers mois | B32: 1 | D32: Absence des enregistrements de contrôle à la réception des produits en provenance de l'entrepôt (produits de la mer et produits frais). Manque d'enregistrement du contrôle à la reception des produits surgelés seul les produits mahjoub sont enregistrés
A33: Identification et isolement des produits non-conformes (des casses, retours et produits périmés) | B33: 2 | C33: =IF(B33=0, -5, "0") -> 0
A34: Balance propre | B34: 2
A35: Respect de l'hygiène vestimentaires et corporelle | B35: 1 | D35: Port des chaussures de ville et absence de cravate, respecter la charte vestimentaire Carrefour.
A36: Taux de réalisation du plan d'action précédent (2 si tout le PA est réalisé, 1 si le taux 100%>Tx>0%, et 0 si le taux est 0%- ne préciser que le taux dans la case commentaire) | B36: 1 | D36: 0.5
A37: Score partiel | D37: =SUM(B27:C35) -> 9
A38: Taux partiel de conformité | D38: =D37/(COUNT(B27:C35)*2) -> 0.45
A40: Score partiel Réception | D40: =SUM(D37,D23) -> 17
A41: Note Réception | D41: =D40/(COUNT(B27:C35,B19:C22)*2) -> 0.60714286
A43: PATISSERIE, BOULANGERIE
A44: =B11 -> 42774
A45: STOCKAGE DES MP
A46: Propreté de la réserve | B46: 2
...

Sheet A1 Technique
B1: 0
B2: 1
B3: 2
B4: NA
A6: Audit hygiène Magasin
A7: ='A1 Exploitation'!A8:F8 -> Merezgua
A8: Auditeur | B8: ='A1 Exploitation'!B9:F9 -> Dr Hend KAMOUN
A9: Audit mené en présence de | B9: ='A1 Exploitation'!B10:F10 -> Directeur du magasin et chefs de rayons
A10: Date de l'audit | B10: ='A1 Exploitation'!B11:F11 -> 42774
A11: Taux global de Etat-Technique | B11: =D198 -> 0.92792793
A13: Paramètres à auditer | B13: Cotation | D13: Observations | E13: Plan d'action proposé | F13: Avancement
B14: 0/1/2 | C14: Sanction
A16: RECEPTION
A17: Protection du quai de réception (étanchéité…) | B17: 2
A18: Balance fonctionnelle | B18: 0 | D18: un dysfonctionnement de la balance a été remarqué par le chef de reception
A19: Etat des sols | B19: 2
A20: Etat des murs et plafonds | B20: 2
A21: Eclairage suffisant et protégé | B21: 2
A22: Score partiel | D22: =SUM(B17:C21) -> 8
A23: Taux partiel de Etat | D23: =D22/(COUNT(B17:C21)*2) -> 0.8
A25: FRUITS ET LEGUMES
A26: Entretien des chambres froides, portières et étagères | B26: 2 | C26: =IF(B26=0, -5, "0") -> 0
A27: Températures de stockage adaptée | B27: 2
A28: Etat des meubles froids | B28: 2
A29: Etat des Evaporateurs | B29: 2
A30: Etat du présentoir | B30: 2
A31: Etat du système d'éclairage | B31: 2
A32: Score partiel | D32: =SUM(B26:C31) -> 12
A33: Taux partiel de Etat | D33: =D32/(COUNT(B26:C31)*2) -> 1
A35: OLIVES EPICES ET CONDIMENTS
A36: Entretien des chambres froides, portières et étagères | B36: 2 | C36: =IF(B36=0, -5, "0") -> 0
A37: Températures de stockage adaptées | B37: 2
A38: Etat des éléments d'exposition | B38: 2
A39: Etat du présentoir | B39: 2
A40: Etat du système d'éclairage | B40: 2
A41: Score partiel | D41: =SUM(B36:C40) -> 10
A42: Taux partiel de Etat | D42: =D41/(COUNT(B36:C40)*2) -> 1
A44: PGC
A45: Etat et revêtement des locaux de stockage | B45: 2
A46: Etat des meubles de stockage | B46: 2
...

Sheet A2 Exploitation
C1: 0
C2: 1
C3: 2
C4: NA
A7: Audit hygiène
A8: ='Page de garde'!D18 -> Merezgua
A9: Auditeur
A10: Audit mené en présence de
A11: Date de l'audit
A12: Note global exploitation | B12: =D505 -> 0
A14: Paramètres à auditer | B14: Cotation | D14: Observations | E14: Plan d'action | F14: Avancement
B15: 0/1/2 | C15: Sanction
A16: RECEPTION
A17: =B11
A18: EXTERIEUR ET AIRE DE RECEPTION
A19: Propreté de la zone de réception | B19: 0
A20: Propreté du monte-charges et alentours | B20: 0
A21: Propreté et rangement du quai | B21: 0
A22: Rangement palette et emballage | B22: 0
A23: Score partiel | D23: =SUM(B19:C22) -> 0
A24: Taux partiel de conformité | D24: =D23/(COUNT(B19:C22)*2) -> 0
A26: LES CONTROLES A LA RECEPTION
A27: Affichage du tableau des températures réglementaires | B27: 0
A28: Respect de la procédure de contrôle à la réception | B28: NA | C28: =IF(B28=0, -5, "0") -> 0
A29: Absence d'attente en réception des marchandises et prévention des croisements des flux (déchets, produits différents…) | B29: 0
A30: Présence, rangement et bon fonctionnement du thermomètre à sonde (avec son matériel de désinfection) et du thermomètre Infra-Rouge | B30: 0
A31: Réalisation et enregistrement de la vérification mensuelle du thermomètre | B31: 0
A32: Enregistrements des paramètres de contrôle à la réception (enregistrement des températures) Présence des documents sanitaires des denrées d'origine animale frais ou congelés (documents de transport, AMC, certificats de salubrité, étiquetage conforme) pour les 6 derniers mois | B32: 0
A33: Identification et isolement des produits non-conformes (des casses, retours et produits périmés) | B33: NA | C33: =IF(B33=0, -5, "0") -> 0
A34: Balance propre | B34: 0
A35: Respect de l'hygiène vestimentaires et corporelle | B35: 0
A36: Taux de réalisation du plan d'action précédent (2 si tout le PA est réalisé, 1 si le taux 100%>Tx>0%, et 0 si le taux est 0%- ne préciser que le taux dans la case commentaire) | B36: 0
A37: Score partiel | D37: =SUM(B27:C35) -> 0
A38: Taux partiel de conformité | D38: =D37/(COUNT(B27:C35)*2) -> 0
A40: Score partiel Réception | D40: =SUM(D37,D23) -> 0
A41: Note Réception | D41: =D40/(COUNT(B27:C35,B19:C22)*2) -> 0
A43: PATISSERIE, BOULANGERIE
A44: =B11
A45: STOCKAGE DES MP
A46: Propreté de la réserve | B46: 0
...

Sheet A2 Technique
B1: 0
B2: 1
B3: 2
B4: NA
A6: Audit hygiène Magasin
A7: ='A1 Exploitation'!A8:F8 -> Merezgua
A8: Auditeur | B8: ='A2 Exploitation'!B9:F9
A9: Audit mené en présence de | B9: ='A2 Exploitation'!B10:F10
A10: Date de l'audit | B10: ='A2 Exploitation'!B11:F11
A11: Taux global de Etat-Technique | B11: =D198 -> 0
A13: Paramètres à auditer | B13: Cotation | D13: Observations | E13: Plan d'action proposé | F13: Avancement
B14: 0/1/2 | C14: Sanction
A16: RECEPTION
A17: Protection du quai de réception (étanchéité…) | B17: 0
A18: Balance fonctionnelle | B18: 0
A19: Etat des sols | B19: 0
A20: Etat des murs et plafonds | B20: 0
A21: Eclairage suffisant et protégé | B21: 0
A22: Score partiel | D22: =SUM(B17:C21) -> 0
A23: Taux partiel de Etat | D23: =D22/(COUNT(B17:C21)*2) -> 0
A25: FRUITS ET LEGUMES
A26: Entretien des chambres froides, portières et étagères | B26: NA | C26: =IF(B26=0, -5, "0") -> 0
A27: Températures de stockage adaptée | B27: 0
A28: Etat des meubles froids | B28: 0
A29: Etat des Evaporateurs | B29: 0
A30: Etat du présentoir | B30: 0
A31: Etat du système d'éclairage | B31: 0
A32: Score partiel | D32: =SUM(B26:C31) -> 0
A33: Taux partiel de Etat | D33: =D32/(COUNT(B26:C31)*2) -> 0
A35: OLIVES EPICES ET CONDIMENTS
A36: Entretien des chambres froides, portières et étagères | B36: NA | C36: =IF(B36=0, -5, "0") -> 0
A37: Températures de stockage adaptées | B37: 0
A38: Etat des éléments d'exposition | B38: 0
A39: Etat du présentoir | B39: 0
A40: Etat du système d'éclairage | B40: 0
A41: Score partiel | D41: =SUM(B36:C40) -> 0
A42: Taux partiel de Etat | D42: =D41/(COUNT(B36:C40)*2) -> 0
A44: PGC
A45: Etat et revêtement des locaux de stockage | B45: 0
A46: Etat des meubles de stockage | B46: 0
...

Sheet A3 Exploitation
C1: 0
C2: 1
C3: 2
C4: NA
A7: Audit hygiène
A8: ='Page de garde'!D18 -> Merezgua
A9: Auditeur
A10: Audit mené en présence de
A11: Date de l'audit
A12: Note global exploitation | B12: =D505 -> 0
A14: Paramètres à auditer | B14: Cotation | D14: Observations | E14: Plan d'action | F14: Avancement
B15: 0/1/2 | C15: Sanction
A16: RECEPTION
A17: =B11
A18: EXTERIEUR ET AIRE DE RECEPTION
A19: Propreté de la zone de réception | B19: 0
A20: Propreté du monte-charges et alentours | B20: 0
A21: Propreté et rangement du quai | B21: 0
A22: Rangement palette et emballage | B22: 0
A23: Score partiel | D23: =SUM(B19:C22) -> 0
A24: Taux partiel de conformité | D24: =D23/(COUNT(B19:C22)*2) -> 0
A26: LES CONTROLES A LA RECEPTION
A27: Affichage du tableau des températures réglementaires | B27: 0
A28: Respect de la procédure de contrôle à la réception | B28: NA | C28: =IF(B28=0, -5, "0") -> 0
A29: Absence d'attente en réception des marchandises et prévention des croisements des flux (déchets, produits différents…) | B29: 0
A30: Présence, rangement et bon fonctionnement du thermomètre à sonde (avec son matériel de désinfection) et du thermomètre Infra-Rouge | B30: 0
A31: Réalisation et enregistrement de la vérification mensuelle du thermomètre | B31: 0
A32: Enregistrements des paramètres de contrôle à la réception (enregistrement des températures) Présence des documents sanitaires des denrées d'origine animale frais ou congelés (documents de transport, AMC, certificats de salubrité, étiquetage conforme) pour les 6 derniers mois | B32: 0
A33: Identification et isolement des produits non-conformes (des casses, retours et produits périmés) | B33: NA | C33: =IF(B33=0, -5, "0") -> 0
A34: Balance propre | B34: 0
A35: Respect de l'hygiène vestimentaires et corporelle | B35: 0
A36: Taux de réalisation du plan d'action précédent (2 si tout le PA est réalisé, 1 si le taux 100%>Tx>0%, et 0 si le taux est 0%- ne préciser que le taux dans la case commentaire) | B36: 0
A37: Score partiel | D37: =SUM(B27:C35) -> 0
A38: Taux partiel de conformité | D38: =D37/(COUNT(B27:C35)*2) -> 0
A40: Score partiel Réception | D40: =SUM(D37,D23) -> 0
A41: Note Réception | D41: =D40/(COUNT(B27:C35,B19:C22)*2) -> 0
A43: PATISSERIE, BOULANGERIE
A44: =B11
A45: STOCKAGE DES MP
A46: Propreté de la réserve | B46: 0
...

Sheet A3 Technique
B1: 0
B2: 1
B3: 2
B4: NA
A6: Audit hygiène Magasin
A7: ='A1 Exploitation'!A8:F8 -> Merezgua
A8: Auditeur | B8: ='A3 Exploitation'!B9:F9
A9: Audit mené en présence de | B9: ='A3 Exploitation'!B10:F10
A10: Date de l'audit | B10: ='A3 Exploitation'!B11:F11
A11: Taux global de Etat-Technique | B11: =D198 -> 0
A13: Paramètres à auditer | B13: Cotation | D13: Observations | E13: Plan d'action proposé | F13: Avancement
B14: 0/1/2 | C14: Sanction
A16: RECEPTION
A17: Protection du quai de réception (étanchéité…) | B17: 0
A18: Balance fonctionnelle | B18: 0
A19: Etat des sols | B19: 0
A20: Etat des murs et plafonds | B20: 0
A21: Eclairage suffisant et protégé | B21: 0
A22: Score partiel | D22: =SUM(B17:C21) -> 0
A23: Taux partiel de Etat | D23: =D22/(COUNT(B17:C21)*2) -> 0
A25: FRUITS ET LEGUMES
A26: Entretien des chambres froides, portières et étagères | B26: NA | C26: =IF(B26=0, -5, "0") -> 0
A27: Températures de stockage adaptée | B27: 0
A28: Etat des meubles froids | B28: 0
A29: Etat des Evaporateurs | B29: 0
A30: Etat du présentoir | B30: 0
A31: Etat du système d'éclairage | B31: 0
A32: Score partiel | D32: =SUM(B26:C31) -> 0
A33: Taux partiel de Etat | D33: =D32/(COUNT(B26:C31)*2) -> 0
A35: OLIVES EPICES ET CONDIMENTS
A36: Entretien des chambres froides, portières et étagères | B36: NA | C36: =IF(B36=0, -5, "0") -> 0
A37: Températures de stockage adaptées | B37: 0
A38: Etat des éléments d'exposition | B38: 0
A39: Etat du présentoir | B39: 0
A40: Etat du système d'éclairage | B40: 0
A41: Score partiel | D41: =SUM(B36:C40) -> 0
A42: Taux partiel de Etat | D42: =D41/(COUNT(B36:C40)*2) -> 0
A44: PGC
A45: Etat et revêtement des locaux de stockage | B45: 0
A46: Etat des meubles de stockage | B46: 0
...

Sheet A4 Exploitation
C1: 0
C2: 1
C3: 2
C4: NA
A7: Audit hygiène
A8: ='Page de garde'!D18 -> Merezgua
A9: Auditeur
A10: Audit mené en présence de
A11: Date de l'audit
A12: Note global exploitation | B12: =D505 -> 0
A14: Paramètres à auditer | B14: Cotation | D14: Observations | E14: Plan d'action | F14: Avancement
B15: 0/1/2 | C15: Sanction
A16: RECEPTION
A17: =B11
A18: EXTERIEUR ET AIRE DE RECEPTION
A19: Propreté de la zone de réception | B19: 0
A20: Propreté du monte-charges et alentours | B20: 0
A21: Propreté et rangement du quai | B21: 0
A22: Rangement palette et emballage | B22: 0
A23: Score partiel | D23: =SUM(B19:C22) -> 0
A24: Taux partiel de conformité | D24: =D23/(COUNT(B19:C22)*2) -> 0
A26: LES CONTROLES A LA RECEPTION
A27: Affichage du tableau des températures réglementaires | B27: 0
A28: Respect de la procédure de contrôle à la réception | B28: NA | C28: =IF(B28=0, -5, "0") -> 0
A29: Absence d'attente en réception des marchandises et prévention des croisements des flux (déchets, produits différents…) | B29: 0
A30: Présence, rangement et bon fonctionnement du thermomètre à sonde (avec son matériel de désinfection) et du thermomètre Infra-Rouge | B30: 0
A31: Réalisation et enregistrement de la vérification mensuelle du thermomètre | B31: 0
A32: Enregistrements des paramètres de contrôle à la réception (enregistrement des températures) Présence des documents sanitaires des denrées d'origine animale frais ou congelés (documents de transport, AMC, certificats de salubrité, étiquetage conforme) pour les 6 derniers mois | B32: 0
A33: Identification et isolement des produits non-conformes (des casses, retours et produits périmés) | B33: NA | C33: =IF(B33=0, -5, "0") -> 0
A34: Balance propre | B34: 0
A35: Respect de l'hygiène vestimentaires et corporelle | B35: 0
A36: Taux de réalisation du plan d'action précédent (2 si tout le PA est réalisé, 1 si le taux 100%>Tx>0%, et 0 si le taux est 0%- ne préciser que le taux dans la case commentaire) | B36: 0
A37: Score partiel | D37: =SUM(B27:C35) -> 0
A38: Taux partiel de conformité | D38: =D37/(COUNT(B27:C35)*2) -> 0
A40: Score partiel Réception | D40: =SUM(D37,D23) -> 0
A41: Note Réception | D41: =D40/(COUNT(B27:C35,B19:C22)*2) -> 0
A43: PATISSERIE, BOULANGERIE
A44: =B11
A45: STOCKAGE DES MP
A46: Propreté de la réserve | B46: 0
...

Sheet A4 Technique
B1: 0
B2: 1
B3: 2
B4: NA
A6: Audit hygiène Magasin
A7: ='A1 Exploitation'!A8:F8 -> Merezgua
A8: Auditeur | B8: ='A4 Exploitation'!B9:F9
A9: Audit mené en présence de | B9: ='A4 Exploitation'!B10:F10
A10: Date de l'audit | B10: ='A4 Exploitation'!B11:F11
A11: Taux global de Etat-Technique | B11: =D198 -> 0
A13: Paramètres à auditer | B13: Cotation | D13: Observations | E13: Plan d'action proposé | F13: Avancement
B14: 0/1/2 | C14: Sanction
A16: RECEPTION
A17: Protection du quai de réception (étanchéité…) | B17: 0
A18: Balance fonctionnelle | B18: 0
A19: Etat des sols | B19: 0
A20: Etat des murs et plafonds | B20: 0
A21: Eclairage suffisant et protégé | B21: 0
A22: Score partiel | D22: =SUM(B17:C21) -> 0
A23: Taux partiel de Etat | D23: =D22/(COUNT(B17:C21)*2) -> 0
A25: FRUITS ET LEGUMES
A26: Entretien des chambres froides, portières et étagères | B26: NA | C26: =IF(B26=0, -5, "0") -> 0
A27: Températures de stockage adaptée | B27: 0
A28: Etat des meubles froids | B28: 0
A29: Etat des Evaporateurs | B29: 0
A30: Etat du présentoir | B30: 0
A31: Etat du système d'éclairage | B31: 0
A32: Score partiel | D32: =SUM(B26:C31) -> 0
A33: Taux partiel de Etat | D33: =D32/(COUNT(B26:C31)*2) -> 0
A35: OLIVES EPICES ET CONDIMENTS
A36: Entretien des chambres froides, portières et étagères | B36: NA | C36: =IF(B36=0, -5, "0") -> 0
A37: Températures de stockage adaptées | B37: 0
A38: Etat des éléments d'exposition | B38: 0
A39: Etat du présentoir | B39: 0
A40: Etat du système d'éclairage | B40: 0
A41: Score partiel | D41: =SUM(B36:C40) -> 0
A42: Taux partiel de Etat | D42: =D41/(COUNT(B36:C40)*2) -> 0
A44: PGC
A45: Etat et revêtement des locaux de stockage | B45: 0
A46: Etat des meubles de stockage | B46: 0
...

Sheet A5 Exploitation
C1: 0
C2: 1
C3: 2
C4: NA
A7: Audit hygiène
A8: ='Page de garde'!D18 -> Merezgua
A9: Auditeur
A10: Audit mené en présence de
A11: Date de l'audit
A12: Note global exploitation | B12: =D505 -> 0
A14: Paramètres à auditer | B14: Cotation | D14: Observations | E14: Plan d'action | F14: Avancement
B15: 0/1/2 | C15: Sanction
A16: RECEPTION
A17: =B11
A18: EXTERIEUR ET AIRE DE RECEPTION
A19: Propreté de la zone de réception | B19: 0
A20: Propreté du monte-charges et alentours | B20: 0
A21: Propreté et rangement du quai | B21: 0
A22: Rangement palette et emballage | B22: 0
A23: Score partiel | D23: =SUM(B19:C22) -> 0
A24: Taux partiel de conformité | D24: =D23/(COUNT(B19:C22)*2) -> 0
A26: LES CONTROLES A LA RECEPTION
A27: Affichage du tableau des températures réglementaires | B27: 0
A28: Respect de la procédure de contrôle à la réception | B28: NA | C28: =IF(B28=0, -5, "0") -> 0
A29: Absence d'attente en réception des marchandises et prévention des croisements des flux (déchets, produits différents…) | B29: 0
A30: Présence, rangement et bon fonctionnement du thermomètre à sonde (avec son matériel de désinfection) et du thermomètre Infra-Rouge | B30: 0
A31: Réalisation et enregistrement de la vérification mensuelle du thermomètre | B31: 0
A32: Enregistrements des paramètres de contrôle à la réception (enregistrement des températures) Présence des documents sanitaires des denrées d'origine animale frais ou congelés (documents de transport, AMC, certificats de salubrité, étiquetage conforme) pour les 6 derniers mois | B32: 0
A33: Identification et isolement des produits non-conformes (des casses, retours et produits périmés) | B33: NA | C33: =IF(B33=0, -5, "0") -> 0
A34: Balance propre | B34: 0
A35: Respect de l'hygiène vestimentaires et corporelle | B35: 0
A36: Taux de réalisation du plan d'action précédent (2 si tout le PA est réalisé, 1 si le taux 100%>Tx>0%, et 0 si le taux est 0%- ne préciser que le taux dans la case commentaire) | B36: 0
A37: Score partiel | D37: =SUM(B27:C35) -> 0
A38: Taux partiel de conformité | D38: =D37/(COUNT(B27:C35)*2) -> 0
A40: Score partiel Réception | D40: =SUM(D37,D23) -> 0
A41: Note Réception | D41: =D40/(COUNT(B27:C35,B19:C22)*2) -> 0
A43: PATISSERIE, BOULANGERIE
A44: =B11
A45: STOCKAGE DES MP
A46: Propreté de la réserve | B46: 0
...

Sheet A5 Technique
B1: 0
B2: 1
B3: 2
B4: NA
A6: Audit hygiène Magasin
A7: ='A1 Exploitation'!A8:F8 -> Merezgua
A8: Auditeur | B8: ='A5 Exploitation'!B9:F9
A9: Audit mené en présence de | B9: ='A5 Exploitation'!B10:F10
A10: Date de l'audit | B10: ='A5 Exploitation'!B11:F11
A11: Taux global de Etat-Technique | B11: =D198 -> 0
A13: Paramètres à auditer | B13: Cotation | D13: Observations | E13: Plan d'action proposé | F13: Avancement
B14: 0/1/2 | C14: Sanction
A16: RECEPTION
A17: Protection du quai de réception (étanchéité…) | B17: 0
A18: Balance fonctionnelle | B18: 0
A19: Etat des sols | B19: 0
A20: Etat des murs et plafonds | B20: 0
A21: Eclairage suffisant et protégé | B21: 0
A22: Score partiel | D22: =SUM(B17:C21) -> 0
A23: Taux partiel de Etat | D23: =D22/(COUNT(B17:C21)*2) -> 0
A25: FRUITS ET LEGUMES
A26: Entretien des chambres froides, portières et étagères | B26: NA | C26: =IF(B26=0, -5, "0") -> 0
A27: Températures de stockage adaptée | B27: 0
A28: Etat des meubles froids | B28: 0
A29: Etat des Evaporateurs | B29: 0
A30: Etat du présentoir | B30: 0
A31: Etat du système d'éclairage | B31: 0
A32: Score partiel | D32: =SUM(B26:C31) -> 0
A33: Taux partiel de Etat | D33: =D32/(COUNT(B26:C31)*2) -> 0
A35: OLIVES EPICES ET CONDIMENTS
A36: Entretien des chambres froides, portières et étagères | B36: NA | C36: =IF(B36=0, -5, "0") -> 0
A37: Températures de stockage adaptées | B37: 0
A38: Etat des éléments d'exposition | B38: 0
A39: Etat du présentoir | B39: 0
A40: Etat du système d'éclairage | B40: 0
A41: Score partiel | D41: =SUM(B36:C40) -> 0
A42: Taux partiel de Etat | D42: =D41/(COUNT(B36:C40)*2) -> 0
A44: PGC
A45: Etat et revêtement des locaux de stockage | B45: 0
A46: Etat des meubles de stockage | B46: 0
...

Sheet A6 Exploitation
C1: 0
C2: 1
C3: 2
C4: NA
A7: Audit hygiène
A8: ='Page de garde'!D18 -> Merezgua
A9: Auditeur
A10: Audit mené en présence de
A11: Date de l'audit
A12: Note global exploitation | B12: =D505 -> 0
A14: Paramètres à auditer | B14: Cotation | D14: Observations | E14: Plan d'action | F14: Avancement
B15: 0/1/2 | C15: Sanction
A16: RECEPTION
A17: =B11
A18: EXTERIEUR ET AIRE DE RECEPTION
A19: Propreté de la zone de réception | B19: 0
A20: Propreté du monte-charges et alentours | B20: 0
A21: Propreté et rangement du quai | B21: 0
A22: Rangement palette et emballage | B22: 0
A23: Score partiel | D23: =SUM(B19:C22) -> 0
A24: Taux partiel de conformité | D24: =D23/(COUNT(B19:C22)*2) -> 0
A26: LES CONTROLES A LA RECEPTION
A27: Affichage du tableau des températures réglementaires | B27: 0
A28: Respect de la procédure de contrôle à la réception | B28: NA | C28: =IF(B28=0, -5, "0") -> 0
A29: Absence d'attente en réception des marchandises et prévention des croisements des flux (déchets, produits différents…) | B29: 0
A30: Présence, rangement et bon fonctionnement du thermomètre à sonde (avec son matériel de désinfection) et du thermomètre Infra-Rouge | B30: 0
A31: Réalisation et enregistrement de la vérification mensuelle du thermomètre | B31: 0
A32: Enregistrements des paramètres de contrôle à la réception (enregistrement des températures) Présence des documents sanitaires des denrées d'origine animale frais ou congelés (documents de transport, AMC, certificats de salubrité, étiquetage conforme) pour les 6 derniers mois | B32: 0
A33: Identification et isolement des produits non-conformes (des casses, retours et produits périmés) | B33: NA | C33: =IF(B33=0, -5, "0") -> 0
A34: Balance propre | B34: 0
A35: Respect de l'hygiène vestimentaires et corporelle | B35: 0
A36: Taux de réalisation du plan d'action précédent (2 si tout le PA est réalisé, 1 si le taux 100%>Tx>0%, et 0 si le taux est 0%- ne préciser que le taux dans la case commentaire) | B36: 0
A37: Score partiel | D37: =SUM(B27:C35) -> 0
A38: Taux partiel de conformité | D38: =D37/(COUNT(B27:C35)*2) -> 0
A40: Score partiel Réception | D40: =SUM(D37,D23) -> 0
A41: Note Réception | D41: =D40/(COUNT(B27:C35,B19:C22)*2) -> 0
A43: PATISSERIE, BOULANGERIE
A44: =B11
A45: STOCKAGE DES MP
A46: Propreté de la réserve | B46: 0
...

Sheet A6 Technique
B1: 0
B2: 1
B3: 2
B4: NA
A6: Audit hygiène Magasin
A7: ='A1 Exploitation'!A8:F8 -> Merezgua
A8: Auditeur | B8: ='A6 Exploitation'!B9:F9
A9: Audit mené en présence de | B9: ='A6 Exploitation'!B10:F10
A10: Date de l'audit | B10: ='A6 Exploitation'!B11:F11
A11: Taux global de Etat-Technique | B11: =D198 -> 0
A13: Paramètres à auditer | B13: Cotation | D13: Observations | E13: Plan d'action proposé | F13: Avancement
B14: 0/1/2 | C14: Sanction
A16: RECEPTION
A17: Protection du quai de réception (étanchéité…) | B17: 0
A18: Balance fonctionnelle | B18: 0
A19: Etat des sols | B19: 0
A20: Etat des murs et plafonds | B20: 0
A21: Eclairage suffisant et protégé | B21: 0
A22: Score partiel | D22: =SUM(B17:C21) -> 0
A23: Taux partiel de Etat | D23: =D22/(COUNT(B17:C21)*2) -> 0
A25: FRUITS ET LEGUMES
A26: Entretien des chambres froides, portières et étagères | B26: NA | C26: =IF(B26=0, -5, "0") -> 0
A27: Températures de stockage adaptée | B27: 0
A28: Etat des meubles froids | B28: 0
A29: Etat des Evaporateurs | B29: 0
A30: Etat du présentoir | B30: 0
A31: Etat du système d'éclairage | B31: 0
A32: Score partiel | D32: =SUM(B26:C31) -> 0
A33: Taux partiel de Etat | D33: =D32/(COUNT(B26:C31)*2) -> 0
A35: OLIVES EPICES ET CONDIMENTS
A36: Entretien des chambres froides, portières et étagères | B36: NA | C36: =IF(B36=0, -5, "0") -> 0
A37: Températures de stockage adaptées | B37: 0
A38: Etat des éléments d'exposition | B38: 0
A39: Etat du présentoir | B39: 0
A40: Etat du système d'éclairage | B40: 0
A41: Score partiel | D41: =SUM(B36:C40) -> 0
A42: Taux partiel de Etat | D42: =D41/(COUNT(B36:C40)*2) -> 0
A44: PGC
A45: Etat et revêtement des locaux de stockage | B45: 0
A46: Etat des meubles de stockage | B46: 0
...
